BEGIN:VCALENDAR
VERSION:2.0
PRODID:-//hacksw/handcal//NONSGML v1.0//EN
CALSCALE:GREGORIAN
BEGIN:VTIMEZONE
TZID:Europe/Berlin
X-LIC-LOCATION:Europe/Berlin
BEGIN:DAYLIGHT
TZOFFSETFROM:+0100
TZOFFSETTO:+0200
TZNAME:CEST
DTSTART:19700329T020000
RRULE:FREQ=YEARLY;BYDAY=-1SU;BYMONTH=3
END:DAYLIGHT
BEGIN:STANDARD
TZOFFSETFROM:+0200
TZOFFSETTO:+0100
TZNAME:CET
DTSTART:19701025T030000
RRULE:FREQ=YEARLY;BYDAY=-1SU;BYMONTH=10
END:STANDARD
END:VTIMEZONE
BEGIN:VEVENT
DTEND;TZID=Europe/Berlin:20260607T220000
UID:69e79e591a8b1
DTSTAMP:20260421T175713
LOCATION:Minigolfanlage am Maltesersteg\, hinter Georgskirche
DESCRIPTION:Während der Sommerferien können Kinder mit den Eltern/Großeltern und Jugendliche zu verbilligten Preisen in der Minigolfanlage am Maltesersteg Minigolf spielen.\r\nDie Gutscheine für die verbilligten Karten werden ausschließlich von der Kommunalen Jugendarbeit ausgestellt.\r\nDie verbilligten Eintrittskarten können unter Vorlage der Gutscheine an der Kasse der Minigolfanlage erworben werden.
URL;VALUE=URI:https://www.unser-ferienprogramm.de/amberg/veranstaltung.php?id=154669
SUMMARY:Minigolfspielen zu verbilligten Preisen
DTSTART;TZID=Europe/Berlin:20260523T130000
END:VEVENT

END:VCALENDAR
