BEGIN:VCALENDAR
VERSION:2.0
PRODID:-//hacksw/handcal//NONSGML v1.0//EN
CALSCALE:GREGORIAN
BEGIN:VTIMEZONE
TZID:Europe/Berlin
X-LIC-LOCATION:Europe/Berlin
BEGIN:DAYLIGHT
TZOFFSETFROM:+0100
TZOFFSETTO:+0200
TZNAME:CEST
DTSTART:19700329T020000
RRULE:FREQ=YEARLY;BYDAY=-1SU;BYMONTH=3
END:DAYLIGHT
BEGIN:STANDARD
TZOFFSETFROM:+0200
TZOFFSETTO:+0100
TZNAME:CET
DTSTART:19701025T030000
RRULE:FREQ=YEARLY;BYDAY=-1SU;BYMONTH=10
END:STANDARD
END:VTIMEZONE
BEGIN:VEVENT
DTEND;TZID=Europe/Berlin:20260331T160000
UID:69eb768981191
DTSTAMP:20260424T155625
LOCATION:
DESCRIPTION:6 Stadtteile- ein Abenteuer!\r\n\r\nWir wollen gemeinsam Alzenau erobern und Orte besuchen\, die für Mädchen etwas Besonderes sein können. Mit viel Kreativität\, Spaß\, Action und Challenges fahren und laufen wir quer durch das Stadtgebiet. Die Mädchen entdecken vielleicht einen neuen Lieblingsort\, erfahren ein bisschen mehr über die Geschichte unserer Stadt und erleben einen Tag voller Abenteuer!\r\n 
URL;VALUE=URI:https://www.unser-ferienprogramm.de/alzenau/veranstaltung.php?id=304626
SUMMARY:Girls on Tour- Alzenau entdecken
DTSTART;TZID=Europe/Berlin:20260331T100000
END:VEVENT

END:VCALENDAR
