BEGIN:VCALENDAR
VERSION:2.0
PRODID:-//hacksw/handcal//NONSGML v1.0//EN
CALSCALE:GREGORIAN
BEGIN:VTIMEZONE
TZID:Europe/Berlin
X-LIC-LOCATION:Europe/Berlin
BEGIN:DAYLIGHT
TZOFFSETFROM:+0100
TZOFFSETTO:+0200
TZNAME:CEST
DTSTART:19700329T020000
RRULE:FREQ=YEARLY;BYDAY=-1SU;BYMONTH=3
END:DAYLIGHT
BEGIN:STANDARD
TZOFFSETFROM:+0200
TZOFFSETTO:+0100
TZNAME:CET
DTSTART:19701025T030000
RRULE:FREQ=YEARLY;BYDAY=-1SU;BYMONTH=10
END:STANDARD
END:VTIMEZONE
BEGIN:VEVENT
DTEND;TZID=Europe/Berlin:20260408T160000
UID:69eb762bf199e
DTSTAMP:20260424T155451
LOCATION:Steinbruch Wasserlos
DESCRIPTION:Gibt es im Steinbruch wirklich einen Drachen?\r\n\r\nDrei Tage voller Abenteuer im Steinbruch Wasserlos!\r\nBei unserer Kidsfreizeit 2026 tauchen wir ein in die geheimnisvolle Welt von "Steinbruchherz".\r\nGemeinsam begeben wir uns auf Spurensuche\, entdecken die Natur\, werden kreativ und beschäftigen uns mit Feuer.\r\n\r\n\r\nDie Kinder treffen uns täglich um 10 Uhr am Abholpunkt (ausgeschildert) und können um 16 Uhr dort wieder abgeholt werden.\r\n\r\nAm letzten Tag sind Interessierte dazu eingeladen\, ab 15:30 Uhr die Ergebnisse dieser Reise zu bewundern. \r\n\r\nWir werden bei jeder Witterung die meiste Zeit im Freien verbringen. Bitte dementsprechend kleiden und Ersatzkleidung mitbringen.\r\n\r\nEs gibt täglich ein gemeinsames Mittagessen. Für Wasser und gesunde Snacks ist ebenfalls gesorgt.
URL;VALUE=URI:https://www.unser-ferienprogramm.de/alzenau/veranstaltung.php?id=304564
SUMMARY:Steinbruchherz- Geheimnis des Drachen
DTSTART;TZID=Europe/Berlin:20260408T100000
END:VEVENT


BEGIN:VEVENT
DTEND;TZID=Europe/Berlin:20260409T160000
UID:69eb762bf19e11
DTSTAMP:20260424T155451
LOCATION:Steinbruch Wasserlos
DESCRIPTION:Gibt es im Steinbruch wirklich einen Drachen?\r\n\r\nDrei Tage voller Abenteuer im Steinbruch Wasserlos!\r\nBei unserer Kidsfreizeit 2026 tauchen wir ein in die geheimnisvolle Welt von "Steinbruchherz".\r\nGemeinsam begeben wir uns auf Spurensuche\, entdecken die Natur\, werden kreativ und beschäftigen uns mit Feuer.\r\n\r\n\r\nDie Kinder treffen uns täglich um 10 Uhr am Abholpunkt (ausgeschildert) und können um 16 Uhr dort wieder abgeholt werden.\r\n\r\nAm letzten Tag sind Interessierte dazu eingeladen\, ab 15:30 Uhr die Ergebnisse dieser Reise zu bewundern. \r\n\r\nWir werden bei jeder Witterung die meiste Zeit im Freien verbringen. Bitte dementsprechend kleiden und Ersatzkleidung mitbringen.\r\n\r\nEs gibt täglich ein gemeinsames Mittagessen. Für Wasser und gesunde Snacks ist ebenfalls gesorgt.
URL;VALUE=URI:https://www.unser-ferienprogramm.de/alzenau/veranstaltung.php?id=304564
SUMMARY:Steinbruchherz- Geheimnis des Drachen
DTSTART;TZID=Europe/Berlin:20260409T100000
END:VEVENT


BEGIN:VEVENT
DTEND;TZID=Europe/Berlin:20260410T160000
UID:69eb762bf19f22
DTSTAMP:20260424T155451
LOCATION:Steinbruch Wasserlos
DESCRIPTION:Gibt es im Steinbruch wirklich einen Drachen?\r\n\r\nDrei Tage voller Abenteuer im Steinbruch Wasserlos!\r\nBei unserer Kidsfreizeit 2026 tauchen wir ein in die geheimnisvolle Welt von "Steinbruchherz".\r\nGemeinsam begeben wir uns auf Spurensuche\, entdecken die Natur\, werden kreativ und beschäftigen uns mit Feuer.\r\n\r\n\r\nDie Kinder treffen uns täglich um 10 Uhr am Abholpunkt (ausgeschildert) und können um 16 Uhr dort wieder abgeholt werden.\r\n\r\nAm letzten Tag sind Interessierte dazu eingeladen\, ab 15:30 Uhr die Ergebnisse dieser Reise zu bewundern. \r\n\r\nWir werden bei jeder Witterung die meiste Zeit im Freien verbringen. Bitte dementsprechend kleiden und Ersatzkleidung mitbringen.\r\n\r\nEs gibt täglich ein gemeinsames Mittagessen. Für Wasser und gesunde Snacks ist ebenfalls gesorgt.
URL;VALUE=URI:https://www.unser-ferienprogramm.de/alzenau/veranstaltung.php?id=304564
SUMMARY:Steinbruchherz- Geheimnis des Drachen
DTSTART;TZID=Europe/Berlin:20260410T100000
END:VEVENT

END:VCALENDAR
