BEGIN:VCALENDAR
VERSION:2.0
PRODID:-//hacksw/handcal//NONSGML v1.0//EN
CALSCALE:GREGORIAN
BEGIN:VTIMEZONE
TZID:Europe/Berlin
X-LIC-LOCATION:Europe/Berlin
BEGIN:DAYLIGHT
TZOFFSETFROM:+0100
TZOFFSETTO:+0200
TZNAME:CEST
DTSTART:19700329T020000
RRULE:FREQ=YEARLY;BYDAY=-1SU;BYMONTH=3
END:DAYLIGHT
BEGIN:STANDARD
TZOFFSETFROM:+0200
TZOFFSETTO:+0100
TZNAME:CET
DTSTART:19701025T030000
RRULE:FREQ=YEARLY;BYDAY=-1SU;BYMONTH=10
END:STANDARD
END:VTIMEZONE
BEGIN:VEVENT
DTEND;TZID=Europe/Berlin:20260530T140000
UID:69e543a29dc7a
DTSTAMP:20260419T230538
LOCATION:Jahnhalle Achern
DESCRIPTION:Das Fechten zählt zu den ältesten olympischen Sportarten und ist eine der vier Disziplinen\, die bei allen Olympischen Sommerspielen vertreten war. In unserem Turnverein Achern kannst du das Fechten als Sportart kennenlernen\, erlernen\, mitmachen und viel Spaß dabei haben!
URL;VALUE=URI:https://www.unser-ferienprogramm.de/achern/veranstaltung.php?id=87541
SUMMARY:Fechten kennenlernen
DTSTART;TZID=Europe/Berlin:20260530T120000
END:VEVENT

END:VCALENDAR
