BEGIN:VCALENDAR
VERSION:2.0
PRODID:-//hacksw/handcal//NONSGML v1.0//EN
CALSCALE:GREGORIAN
BEGIN:VTIMEZONE
TZID:Europe/Berlin
X-LIC-LOCATION:Europe/Berlin
BEGIN:DAYLIGHT
TZOFFSETFROM:+0100
TZOFFSETTO:+0200
TZNAME:CEST
DTSTART:19700329T020000
RRULE:FREQ=YEARLY;BYDAY=-1SU;BYMONTH=3
END:DAYLIGHT
BEGIN:STANDARD
TZOFFSETFROM:+0200
TZOFFSETTO:+0100
TZNAME:CET
DTSTART:19701025T030000
RRULE:FREQ=YEARLY;BYDAY=-1SU;BYMONTH=10
END:STANDARD
END:VTIMEZONE
BEGIN:VEVENT
DTEND;TZID=Europe/Berlin:20260601T160000
UID:69e540e2a9da3
DTSTAMP:20260419T225354
LOCATION:Klärwerk Achern\, Schleif 5\, 77855 Achern
DESCRIPTION:Morgens geduscht\, die Zähne geputzt und ganz nebenbei rund 40 Liter Abwasser produziert. Das kennen wir alle – doch was passiert eigentlich mit dem benutzten Wasser? Bei einer Führung zeigen die Mitarbeiter der Stadt Achern die Wasserreinigung vom Kanalsystem bis zum Fluss. Diese Veranstaltung ist ein Familienangebot\, es sollte min. eine erwachsene Begleitperson dabei sein. 
URL;VALUE=URI:https://www.unser-ferienprogramm.de/achern/veranstaltung.php?id=301120
SUMMARY:Führung im Klärwerk (Familienangebot)
DTSTART;TZID=Europe/Berlin:20260601T143000
END:VEVENT

END:VCALENDAR
