BEGIN:VCALENDAR
VERSION:2.0
PRODID:-//hacksw/handcal//NONSGML v1.0//EN
CALSCALE:GREGORIAN
BEGIN:VTIMEZONE
TZID:Europe/Berlin
X-LIC-LOCATION:Europe/Berlin
BEGIN:DAYLIGHT
TZOFFSETFROM:+0100
TZOFFSETTO:+0200
TZNAME:CEST
DTSTART:19700329T020000
RRULE:FREQ=YEARLY;BYDAY=-1SU;BYMONTH=3
END:DAYLIGHT
BEGIN:STANDARD
TZOFFSETFROM:+0200
TZOFFSETTO:+0100
TZNAME:CET
DTSTART:19701025T030000
RRULE:FREQ=YEARLY;BYDAY=-1SU;BYMONTH=10
END:STANDARD
END:VTIMEZONE
BEGIN:VEVENT
DTEND;TZID=Europe/Berlin:20260523T103000
UID:69e5421eec2d9
DTSTAMP:20260419T225910
LOCATION:Hockeyhalle Sasbach
DESCRIPTION:Der Kurs "Inlineskating für Anfänger" richtet sich an alle Kinder\, die noch nicht auf Inline-Skates gestanden sind und keine Vorkenntnisse haben. Inlineskates und Schutzausrüstung können kostenfrei geliehen werden.
URL;VALUE=URI:https://www.unser-ferienprogramm.de/achern/veranstaltung.php?id=299537
SUMMARY:Inlineskating für Anfänger
DTSTART;TZID=Europe/Berlin:20260523T093000
END:VEVENT

END:VCALENDAR
