BEGIN:VCALENDAR
VERSION:2.0
PRODID:-//hacksw/handcal//NONSGML v1.0//EN
CALSCALE:GREGORIAN
BEGIN:VTIMEZONE
TZID:Europe/Berlin
X-LIC-LOCATION:Europe/Berlin
BEGIN:DAYLIGHT
TZOFFSETFROM:+0100
TZOFFSETTO:+0200
TZNAME:CEST
DTSTART:19700329T020000
RRULE:FREQ=YEARLY;BYDAY=-1SU;BYMONTH=3
END:DAYLIGHT
BEGIN:STANDARD
TZOFFSETFROM:+0200
TZOFFSETTO:+0100
TZNAME:CET
DTSTART:19701025T030000
RRULE:FREQ=YEARLY;BYDAY=-1SU;BYMONTH=10
END:STANDARD
END:VTIMEZONE
BEGIN:VEVENT
DTEND;TZID=Europe/Berlin:20260603T144500
UID:69e5407f6fcd5
DTSTAMP:20260419T225215
LOCATION:Frieder Burda Museum Baden-Baden
DESCRIPTION:Wir fahren gemeinsam mit Bahn und Bus nach Baden-Baden in das Museum Frieder Burda. Wir starten mit einer Führung durch das Museum und entdecken die Vielfalt der Bildenden Kunst. Anschließend werden wir in der Kunstwerkstatt unter professioneller Anleitung und Verwendung hochwertiger Kunstmaterialien selbst kreativ. 
URL;VALUE=URI:https://www.unser-ferienprogramm.de/achern/veranstaltung.php?id=242948
SUMMARY:Kreativ im Kunstmuseum Frieder Burda in Baden-Baden
DTSTART;TZID=Europe/Berlin:20260603T090000
END:VEVENT

END:VCALENDAR
