BEGIN:VCALENDAR
VERSION:2.0
PRODID:-//hacksw/handcal//NONSGML v1.0//EN
CALSCALE:GREGORIAN
BEGIN:VTIMEZONE
TZID:Europe/Berlin
X-LIC-LOCATION:Europe/Berlin
BEGIN:DAYLIGHT
TZOFFSETFROM:+0100
TZOFFSETTO:+0200
TZNAME:CEST
DTSTART:19700329T020000
RRULE:FREQ=YEARLY;BYDAY=-1SU;BYMONTH=3
END:DAYLIGHT
BEGIN:STANDARD
TZOFFSETFROM:+0200
TZOFFSETTO:+0100
TZNAME:CET
DTSTART:19701025T030000
RRULE:FREQ=YEARLY;BYDAY=-1SU;BYMONTH=10
END:STANDARD
END:VTIMEZONE
BEGIN:VEVENT
DTEND;TZID=Europe/Berlin:20260529T160000
UID:69e547604ed29
DTSTAMP:20260419T232136
LOCATION:Lehrbienenstand Oberacherner Wald
DESCRIPTION:Die Kinder erfahren\, wie der Honig entsteht und was die Honigbienen leisten müssen\, um die Leckerei zu genießen. Bienen dürfen gestreichelt und es darf aus den Waben genascht werden. Die Kinder erfahren\, dass nicht nur Honigbienen die Pflanzen bestäuben\, sondern lernen auch wie wichtig Wildbienen in der Natur sind.
URL;VALUE=URI:https://www.unser-ferienprogramm.de/achern/veranstaltung.php?id=241889
SUMMARY:Wie kommt der Honig ins Glas - wer bestäubt unsere Pflanzen? (Naturpass)
DTSTART;TZID=Europe/Berlin:20260529T140000
END:VEVENT

END:VCALENDAR
