BEGIN:VCALENDAR
VERSION:2.0
PRODID:-//hacksw/handcal//NONSGML v1.0//EN
CALSCALE:GREGORIAN
BEGIN:VTIMEZONE
TZID:Europe/Berlin
X-LIC-LOCATION:Europe/Berlin
BEGIN:DAYLIGHT
TZOFFSETFROM:+0100
TZOFFSETTO:+0200
TZNAME:CEST
DTSTART:19700329T020000
RRULE:FREQ=YEARLY;BYDAY=-1SU;BYMONTH=3
END:DAYLIGHT
BEGIN:STANDARD
TZOFFSETFROM:+0200
TZOFFSETTO:+0100
TZNAME:CET
DTSTART:19701025T030000
RRULE:FREQ=YEARLY;BYDAY=-1SU;BYMONTH=10
END:STANDARD
END:VTIMEZONE
BEGIN:VEVENT
DTEND;TZID=Europe/Berlin:20260526T180000
UID:69e543f0b36f1
DTSTAMP:20260419T230656
LOCATION:Bogenplatz Achern\, Ambros-Nehren-Straße 2
DESCRIPTION:Wie geht das mit dem Bogenschießen? Nach der Einführung und den Sicherheitshinweisen klappt das schon bald mit dem selbständigen Umgang mit dem neuen Sportgerät! Das erproben wir durch unterschiedliche Zielvorgaben und mit einem Wettspiel zum Abschluss. Anschließend stärken wir uns bei Stockbrot und einem Getränk vom Acherner Bogenclub.
URL;VALUE=URI:https://www.unser-ferienprogramm.de/achern/veranstaltung.php?id=241503
SUMMARY:Mit Pfeil und Bogen
DTSTART;TZID=Europe/Berlin:20260526T140000
END:VEVENT

END:VCALENDAR
