BEGIN:VCALENDAR
VERSION:2.0
PRODID:-//hacksw/handcal//NONSGML v1.0//EN
CALSCALE:GREGORIAN
BEGIN:VTIMEZONE
TZID:Europe/Berlin
X-LIC-LOCATION:Europe/Berlin
BEGIN:DAYLIGHT
TZOFFSETFROM:+0100
TZOFFSETTO:+0200
TZNAME:CEST
DTSTART:19700329T020000
RRULE:FREQ=YEARLY;BYDAY=-1SU;BYMONTH=3
END:DAYLIGHT
BEGIN:STANDARD
TZOFFSETFROM:+0200
TZOFFSETTO:+0100
TZNAME:CET
DTSTART:19701025T030000
RRULE:FREQ=YEARLY;BYDAY=-1SU;BYMONTH=10
END:STANDARD
END:VTIMEZONE
BEGIN:VEVENT
DTEND;TZID=Europe/Berlin:20260527T110000
UID:69e5411d7de3f
DTSTAMP:20260419T225453
LOCATION:Parkplatz vor dem Rathaus Illenau\, 77855 Achern
DESCRIPTION:Die Pfingstferien sind ideal fürs frühe Aufstehen und "Naturgucken"! Was bewegt sich so rund um die Illenau und welche Vögel lassen sich nicht nur blicken\, sondern auch hören? Wir laden euch zum Beobachten ein! Anschließend können beim Frühstück die spannendsten Erlebnisse noch einmal erzählt werden.
URL;VALUE=URI:https://www.unser-ferienprogramm.de/achern/veranstaltung.php?id=194568
SUMMARY:Vögel für Kinder (Naturpass)
DTSTART;TZID=Europe/Berlin:20260527T070000
END:VEVENT

END:VCALENDAR
