BEGIN:VCALENDAR
VERSION:2.0
PRODID:-//hacksw/handcal//NONSGML v1.0//EN
CALSCALE:GREGORIAN
BEGIN:VTIMEZONE
TZID:Europe/Berlin
X-LIC-LOCATION:Europe/Berlin
BEGIN:DAYLIGHT
TZOFFSETFROM:+0100
TZOFFSETTO:+0200
TZNAME:CEST
DTSTART:19700329T020000
RRULE:FREQ=YEARLY;BYDAY=-1SU;BYMONTH=3
END:DAYLIGHT
BEGIN:STANDARD
TZOFFSETFROM:+0200
TZOFFSETTO:+0100
TZNAME:CET
DTSTART:19701025T030000
RRULE:FREQ=YEARLY;BYDAY=-1SU;BYMONTH=10
END:STANDARD
END:VTIMEZONE
BEGIN:VEVENT
DTEND;TZID=Europe/Berlin:20260605T170000
UID:69e540aa362bc
DTSTAMP:20260419T225258
LOCATION:Blumen Decker GmbH\, Im Hesselbach 95\, Achern.
DESCRIPTION:Geführtes Ponyreiten beim Stall auf dem Sandplatz.
URL;VALUE=URI:https://www.unser-ferienprogramm.de/achern/veranstaltung.php?id=192253
SUMMARY:Geführtes Ponyreiten beim Gartencenter Decker
DTSTART;TZID=Europe/Berlin:20260605T150000
END:VEVENT

END:VCALENDAR
