BEGIN:VCALENDAR
VERSION:2.0
PRODID:-//hacksw/handcal//NONSGML v1.0//EN
CALSCALE:GREGORIAN
BEGIN:VTIMEZONE
TZID:Europe/Berlin
X-LIC-LOCATION:Europe/Berlin
BEGIN:DAYLIGHT
TZOFFSETFROM:+0100
TZOFFSETTO:+0200
TZNAME:CEST
DTSTART:19700329T020000
RRULE:FREQ=YEARLY;BYDAY=-1SU;BYMONTH=3
END:DAYLIGHT
BEGIN:STANDARD
TZOFFSETFROM:+0200
TZOFFSETTO:+0100
TZNAME:CET
DTSTART:19701025T030000
RRULE:FREQ=YEARLY;BYDAY=-1SU;BYMONTH=10
END:STANDARD
END:VTIMEZONE
BEGIN:VEVENT
DTEND;TZID=Europe/Berlin:20260730T150000
UID:69e5e2d5b29f3
DTSTAMP:20260420T102453
LOCATION:Sportplatz Unter-Abtsteinach
DESCRIPTION:Ourewellerisch koche- Kochen- Schlemmen und Spielen bei der SGU
URL;VALUE=URI:https://www.unser-ferienprogramm.de/abtsteinach/veranstaltung.php?id=311205
SUMMARY:Ferienspiele SG Unter-Abtsteinach
DTSTART;TZID=Europe/Berlin:20260730T100000
END:VEVENT

END:VCALENDAR
