BEGIN:VCALENDAR
VERSION:2.0
PRODID:-//hacksw/handcal//NONSGML v1.0//EN
CALSCALE:GREGORIAN
BEGIN:VTIMEZONE
TZID:Europe/Berlin
X-LIC-LOCATION:Europe/Berlin
BEGIN:DAYLIGHT
TZOFFSETFROM:+0100
TZOFFSETTO:+0200
TZNAME:CEST
DTSTART:19700329T020000
RRULE:FREQ=YEARLY;BYDAY=-1SU;BYMONTH=3
END:DAYLIGHT
BEGIN:STANDARD
TZOFFSETFROM:+0200
TZOFFSETTO:+0100
TZNAME:CET
DTSTART:19701025T030000
RRULE:FREQ=YEARLY;BYDAY=-1SU;BYMONTH=10
END:STANDARD
END:VTIMEZONE
BEGIN:VEVENT
DTEND;TZID=Europe/Berlin:20260728T153000
UID:69e5e270aeb6b
DTSTAMP:20260420T102312
LOCATION:
DESCRIPTION:Wir treffen uns auf dem Parkplatz der alla hopp! - Anlage und wandern gemeinsam nach Hilsenhain zum Bauernhof von Jenni Elfner (Lernort Bauernhof Bawü). Dort werden wir einen schönen Tag auf dem Bauernhof mit den Schafen\, Ziegen\, Enten und Hühnern verbringen. \r\nGegen 15.00 Uhr laufen wir zurück zur alla hopp! - Anlage.
URL;VALUE=URI:https://www.unser-ferienprogramm.de/abtsteinach/veranstaltung.php?id=310274
SUMMARY:Ferienspiele mit dem Schützenverein 
DTSTART;TZID=Europe/Berlin:20260728T093000
END:VEVENT

END:VCALENDAR
