BEGIN:VCALENDAR
VERSION:2.0
PRODID:-//hacksw/handcal//NONSGML v1.0//EN
CALSCALE:GREGORIAN
BEGIN:VTIMEZONE
TZID:Europe/Berlin
X-LIC-LOCATION:Europe/Berlin
BEGIN:DAYLIGHT
TZOFFSETFROM:+0100
TZOFFSETTO:+0200
TZNAME:CEST
DTSTART:19700329T020000
RRULE:FREQ=YEARLY;BYDAY=-1SU;BYMONTH=3
END:DAYLIGHT
BEGIN:STANDARD
TZOFFSETFROM:+0200
TZOFFSETTO:+0100
TZNAME:CET
DTSTART:19701025T030000
RRULE:FREQ=YEARLY;BYDAY=-1SU;BYMONTH=10
END:STANDARD
END:VTIMEZONE
BEGIN:VEVENT
DTEND;TZID=Europe/Berlin:20260730T140000
UID:69ed1d107afa4
DTSTAMP:20260425T215912
LOCATION:Kuturzentrum & Freibad Schöneflith
DESCRIPTION:Als Ferienprogramm 2026 veranstaltet das Theaterlabel MINT-400 ein interaktives Suchspiel durch das  Freibad Schöneflieth: Fünf Darsteller:innen spielen die abenteuerlustige Unternehmung der Raumschiffscrew aus Douglas Adams Per Anhalter durch die Galaxis nach. Zusammen mit den Badegästen gilt es herauszufinden\, wie die größte aller Fragen lautet\, deren Antwort bekanntlich „42“ ist. Gemeinsam brechen sie zu einem intergalaktischen Abenteuer auf. Dabei wird das Freibad in einer Rundreise bespielt.\r\n\r\nBegleitend zur Inszenierung bietet MINT-400 einen Theaterworkshop für Kinder im Alter von 10-14 Jahren an. Der Workshop verfolgt das Ziel\, Kindern einen spielerischen Zugang zum Theater zu ermöglichen und sie aktiv in die Fantasiewelt der aktuellen Produktion einzubeziehen.\r\n\r\nDer Workshop findet an drei Tagen vor der Aufführung  statt und dauert jeweils\r\n4 Stunden in der Zeit von 10-14 Uhr. \r\nAm Tag der Aufführung am 31. Juli ist das Bringen um 16:00 - und die Abholung um 19:30 - die Vorstellung geht von 18:00 Uhr bis ca. 19:00 Uhr. Die Eltern sind zur Vorstellung natürlich herzlich eingeladen.\r\n\r\nDie Teilnahme am Workshop ist kostenlos. \r\n\r\n„Per Seepferdchen durch die Galaxis“\r\nein Theaterworkshop für Kinder\r\n~\r\nDu hast Lust\, in den Ferien Theater zu spielen?\r\nDann begleite im Juli unsere Theaterperformance im Freibad Schöneflieth mit einem fantasievollen Workshop voller Spiel\, Bewegung und Kreativität!\r\n\r\nWorum geht’s?\r\nIn unserem Workshop tauchst du ein in die abenteuerliche Welt einer bunten Raumschiffscrew auf der Suche nach der alles-entscheidenden Frage – nach dem Leben\, dem Universum und dem ganzen Rest: nach Glück? Mut? Freundschaft?\r\n\r\nWas erwartet dich?\r\nMit Theaterspielen\, kleinen Szenen und kreativen Übungen kannst du dich ausprobieren und kreativ werden. Du erfindest deine eigene Rolle und wirst Teil der Seepferdchen-Crew!\r\nAußerdem überlegen wir gemeinsam:\r\nWie wichtig ist die Antwort auf den Sinn des Lebens\, die angeblich „42“ lautet? Was macht dich glücklich? Was ist dir wichtig?\r\nWir werden gemeinsam Theaterspielen\, Basteln\, Erfinden und Spaß haben.\r\n~\r\nLeitung:\r\nMerle Pätsch (Kulturpädagogin)\r\n
URL;VALUE=URI:https://www.unser-ferienprogramm.de/abenteuerkiste/veranstaltung.php?id=298111
SUMMARY:Per Seepferdchen durch die Galaxis - 3Tages Workshop anschl Aufführung 31.7.
DTSTART;TZID=Europe/Berlin:20260728T100000
END:VEVENT

END:VCALENDAR
