BEGIN:VCALENDAR
VERSION:2.0
PRODID:-//hacksw/handcal//NONSGML v1.0//EN
CALSCALE:GREGORIAN
BEGIN:VTIMEZONE
TZID:Europe/Berlin
X-LIC-LOCATION:Europe/Berlin
BEGIN:DAYLIGHT
TZOFFSETFROM:+0100
TZOFFSETTO:+0200
TZNAME:CEST
DTSTART:19700329T020000
RRULE:FREQ=YEARLY;BYDAY=-1SU;BYMONTH=3
END:DAYLIGHT
BEGIN:STANDARD
TZOFFSETFROM:+0200
TZOFFSETTO:+0100
TZNAME:CET
DTSTART:19701025T030000
RRULE:FREQ=YEARLY;BYDAY=-1SU;BYMONTH=10
END:STANDARD
END:VTIMEZONE
BEGIN:VEVENT
DTEND;TZID=Europe/Berlin:20260828T130000
UID:69ed2d9798a50
DTSTAMP:20260425T230943
LOCATION:Emssporthalle Greven
DESCRIPTION:Vielseitiges Sportangebot von angesagten Ball- und Fangspielen bis hin zu diversen Schnupperangeboten von vielen Sportarten des SVG\, sowie Turn- und Parcoursstationen.\r\n\r\nDas Ferienprgramm ist täglich von 7:30 Uhr - 13:00 Uhr\r\n\r\nDas Angebot ist ohne Mittagessen!\r\nEbenso muss das Frühstück selber mitgebracht werden.\r\n\r\nSnacks\, Obst und Wasser gibt es vor Ort.\r\n
URL;VALUE=URI:https://www.unser-ferienprogramm.de/abenteuerkiste/veranstaltung.php?id=297677
SUMMARY:6. Sommerferienwoche - Halbtagesprogramm in der Emssporthalle
DTSTART;TZID=Europe/Berlin:20260824T073000
END:VEVENT

END:VCALENDAR
