BEGIN:VCALENDAR
VERSION:2.0
PRODID:-//hacksw/handcal//NONSGML v1.0//EN
CALSCALE:GREGORIAN
BEGIN:VTIMEZONE
TZID:Europe/Berlin
X-LIC-LOCATION:Europe/Berlin
BEGIN:DAYLIGHT
TZOFFSETFROM:+0100
TZOFFSETTO:+0200
TZNAME:CEST
DTSTART:19700329T020000
RRULE:FREQ=YEARLY;BYDAY=-1SU;BYMONTH=3
END:DAYLIGHT
BEGIN:STANDARD
TZOFFSETFROM:+0200
TZOFFSETTO:+0100
TZNAME:CET
DTSTART:19701025T030000
RRULE:FREQ=YEARLY;BYDAY=-1SU;BYMONTH=10
END:STANDARD
END:VTIMEZONE
BEGIN:VEVENT
DTEND;TZID=Europe/Berlin:20260614T120000
UID:69ed1cda2f4af
DTSTAMP:20260425T215818
LOCATION:Kulturzentrum Greven
DESCRIPTION:Der goldene Frosch bringt\, demjenigen\, der ihn sieht\, Glück. Das weiß auch Primbribri\, der Häuptling der Bri-Bri Indianer\, die im Regenwald in Costa Rica leben.\r\n\r\nEinmal im Jahr wandert Primbribri zur Spitze des Monte Verde\, um den goldenen Frosch zu sehen. Und immer war er da. Doch plötzlich ist der Goldene Frosch verschwunden und seit dem er weg ist\, regnet es immer weniger. Primbribri ist ratlos\, die Indianer sind ratlos.\r\n\r\nSie bitten Professor Doktor Fritz Frosch\, den forschen Froschforscher ihnen zu helfen. Gemeinsam mit dem Publikum macht sich Fritz Frosch auf die Suche. Sie bereisen die ganze Welt. Sie treffen die buntesten Frösche\, lernen zusammen die phantastischen Froschrufe\, tanzen den Froschtanz\, bauen einen Regenwald um Ihn zu locken und lernen was sie tun können\, damit der goldenen Frosch eines Tages vielleicht doch wieder kommt.\r\n\r\nFür Kinder im Grundschulalter\r\n\r\nEinlass ist um 10.30 Uhr.\r\n\r\n\r\n\r\n
URL;VALUE=URI:https://www.unser-ferienprogramm.de/abenteuerkiste/veranstaltung.php?id=297074
SUMMARY:Kindertheater Tom Teuer mit dem Stück "Auf der Suche nach dem Goldenen Frosch"
DTSTART;TZID=Europe/Berlin:20260614T110000
END:VEVENT

END:VCALENDAR
