BEGIN:VCALENDAR
VERSION:2.0
PRODID:-//hacksw/handcal//NONSGML v1.0//EN
CALSCALE:GREGORIAN
BEGIN:VTIMEZONE
TZID:Europe/Berlin
X-LIC-LOCATION:Europe/Berlin
BEGIN:DAYLIGHT
TZOFFSETFROM:+0100
TZOFFSETTO:+0200
TZNAME:CEST
DTSTART:19700329T020000
RRULE:FREQ=YEARLY;BYDAY=-1SU;BYMONTH=3
END:DAYLIGHT
BEGIN:STANDARD
TZOFFSETFROM:+0200
TZOFFSETTO:+0100
TZNAME:CET
DTSTART:19701025T030000
RRULE:FREQ=YEARLY;BYDAY=-1SU;BYMONTH=10
END:STANDARD
END:VTIMEZONE
BEGIN:VEVENT
DTEND;TZID=Europe/Berlin:20260811T000000
UID:69ed1d11012ee
DTSTAMP:20260425T215913
LOCATION:
DESCRIPTION:Zum ersten Mal bietet die Kirchengemeinde St. Martinus zusätzlich ein Ferienlager für Jugendliche im Alter von 14-16 an! Vom 01.08.26 bis zum 11.08.26 geht es für nach Dänemark! Ans Meer\, in die Natur und mitten hinein in zehn Tage voller Abenteuer\, Gemeinschaft und natürlich einer Menge Spaß. \r\nGemeinsam erwarten uns Ausflüge\, Spiele und gemütliche Abende am Lagerfeuer. \r\n\r\nWir freuen uns auf viele neugierige\, unternehmungslustige Jugendliche\, die Lust haben dieses Abenteuer mit uns gemeinsam zum ersten Mal zu erleben! Insgesamt können ca 30. Leute mitfahren\, also fragt eure Freunde & save the Date! Wer mehr erfahren möchte\, sollte sich unter JugendlagerMartinusGreven@web.de melden\, damit er automatisch über Neuigkeiten informiert wird.\r\n\r\nBitte achten Sie auf die Altersangabe!\r\n
URL;VALUE=URI:https://www.unser-ferienprogramm.de/abenteuerkiste/veranstaltung.php?id=297009
SUMMARY:Jugendlager St. Martinus - Buchung siehe Beschreibung!
DTSTART;TZID=Europe/Berlin:20260801T000000
END:VEVENT

END:VCALENDAR
