BEGIN:VCALENDAR
VERSION:2.0
PRODID:-//hacksw/handcal//NONSGML v1.0//EN
CALSCALE:GREGORIAN
BEGIN:VTIMEZONE
TZID:Europe/Berlin
X-LIC-LOCATION:Europe/Berlin
BEGIN:DAYLIGHT
TZOFFSETFROM:+0100
TZOFFSETTO:+0200
TZNAME:CEST
DTSTART:19700329T020000
RRULE:FREQ=YEARLY;BYDAY=-1SU;BYMONTH=3
END:DAYLIGHT
BEGIN:STANDARD
TZOFFSETFROM:+0200
TZOFFSETTO:+0100
TZNAME:CET
DTSTART:19701025T030000
RRULE:FREQ=YEARLY;BYDAY=-1SU;BYMONTH=10
END:STANDARD
END:VTIMEZONE
BEGIN:VEVENT
DTEND;TZID=Europe/Berlin:20260823T000000
UID:69ed2d8d609b3
DTSTAMP:20260425T230933
LOCATION:
DESCRIPTION:Etwa 70 Kinder und Jugendliche fahren jedes Jahr begleitet von erfahrenen und pädagogisch geschulten jungen Erwachsenen für 10 Tage zum Zelten ins Sauerland oder Emsland (wird kurzfristig bekannt gegeben). Verpflegt werden sie dabei von einem ehrenamtlichen und erfahrenen Küchenteam. Begleitet wird das Lager durch Lisa Sauer und Diego Olvera Gutierrez von der Pfarrei.\r\n\r\nJedes Lagerjahr steht unter einem besonderen Motto\, nach dem sich ein Großteil des Programms richtet. Dabei ist bei spannenden Ausflügen\, lustigen Gruppenspielen und kreativen Abendshows für jeden etwas dabei. Ganz egal\, ob der Freizeitpark Fort Fun besucht\, ins Freibad gegangen\, ein typisches Lagerspiel veranstaltet wird\, oder der Spüldienst auf der Tagesordnung steht - es steht immer viel Spaß und Laune auf dem Programm.\r\n\r\nDas Sommerlager richtet sich an alle Kinder und Jugendlichen zwischen 9 und 14 Jahren. \r\nAuch wenn das Ferienlager von der Kirchengemeinde veranstaltet wird\, richtet sich unser Angebot an alle Kinder und Jugendlichen\, unabhängig von ihrer Konfession.\r\n\r\nBitte achten Sie auf die Altersangabe!\r\n
URL;VALUE=URI:https://www.unser-ferienprogramm.de/abenteuerkiste/veranstaltung.php?id=297008
SUMMARY:Sommerlager St. Martinus - Buchung siehe Beschreibung!
DTSTART;TZID=Europe/Berlin:20260814T000000
END:VEVENT

END:VCALENDAR
