BEGIN:VCALENDAR
VERSION:2.0
PRODID:-//hacksw/handcal//NONSGML v1.0//EN
CALSCALE:GREGORIAN
BEGIN:VTIMEZONE
TZID:Europe/Berlin
X-LIC-LOCATION:Europe/Berlin
BEGIN:DAYLIGHT
TZOFFSETFROM:+0100
TZOFFSETTO:+0200
TZNAME:CEST
DTSTART:19700329T020000
RRULE:FREQ=YEARLY;BYDAY=-1SU;BYMONTH=3
END:DAYLIGHT
BEGIN:STANDARD
TZOFFSETFROM:+0200
TZOFFSETTO:+0100
TZNAME:CET
DTSTART:19701025T030000
RRULE:FREQ=YEARLY;BYDAY=-1SU;BYMONTH=10
END:STANDARD
END:VTIMEZONE
BEGIN:VEVENT
DTEND;TZID=Europe/Berlin:20260724T160000
UID:69ed2d981e91e
DTSTAMP:20260425T230944
LOCATION:Die Karderie\, Friedrich-Ebert Straße 3-5\, 48268 Greven
DESCRIPTION:Du wolltest schon immer wissen wie es ist z.B. Reporter*in\, Designer*in oder Musiker*in zu sein?\r\n\r\nIn der Kulturhauptstadt Greven ist das kein Problem\, denn in dieser Woche hast Du die Möglichkeit mit Gleichaltrigen Deine eigene Stadt zu entwickeln!\r\n\r\nWenn Du Lust hast\, kannst Du am Ende der Woche\, beim Abschlussfest Eurer Stadt Deine Arbeiten vor Publikum präsentieren.\r\n\r\nFür Verpflegung ist gesorgt.\r\n
URL;VALUE=URI:https://www.unser-ferienprogramm.de/abenteuerkiste/veranstaltung.php?id=152099
SUMMARY:1. Sommerferienwoche - Kulturhauptstadt 
DTSTART;TZID=Europe/Berlin:20260720T093000
END:VEVENT

END:VCALENDAR
