BEGIN:VCALENDAR
VERSION:2.0
PRODID:-//hacksw/handcal//NONSGML v1.0//EN
CALSCALE:GREGORIAN
BEGIN:VTIMEZONE
TZID:Europe/Berlin
X-LIC-LOCATION:Europe/Berlin
BEGIN:DAYLIGHT
TZOFFSETFROM:+0100
TZOFFSETTO:+0200
TZNAME:CEST
DTSTART:19700329T020000
RRULE:FREQ=YEARLY;BYDAY=-1SU;BYMONTH=3
END:DAYLIGHT
BEGIN:STANDARD
TZOFFSETFROM:+0200
TZOFFSETTO:+0100
TZNAME:CET
DTSTART:19701025T030000
RRULE:FREQ=YEARLY;BYDAY=-1SU;BYMONTH=10
END:STANDARD
END:VTIMEZONE
BEGIN:VEVENT
DTEND;TZID=Europe/Berlin:20260731T160000
UID:69ed1d487de1b
DTSTAMP:20260425T220008
LOCATION:Grundschule St. Marien\, Greven Mitte
DESCRIPTION:Ferienprogramm Lernen fördern an der Marienschule\r\n\r\nMach mit und verbringe einen Teil deiner Ferien bei uns!\r\n\r\nUnser Ferienteam gestaltet ein buntes und spannendes Ferienprogramm für alle Grundschulkinder in Greven unabhängig davon\, ob ihr sonst die OGS besucht oder nicht.\r\n\r\nBei uns kannst du mit deinen Freunden spielen\, Abenteuer erleben\, Neues entdecken und einfach eine tolle Zeit in den Ferien haben. Es warten jede Menge Bastelaktionen\, Bewegungsangebote\, Backaktionen und viele Workshops und Aktivitäten\, aus denen du nach Lust und Laune wählen kannst.\r\n\r\nWann und wo\r\n•\tMo bis Fr\, 7:30 bis 16:00 Uhr\r\n•\tRund um die Räume des Offenen Ganztags der Marienschule Greven Mitte\r\nVerpflegung\r\n•\tMittagessen ist inklusive\r\n\r\nBesonderer Förderbedarf\r\n•\tSollte dein Kind besondere Unterstützung benötigen\, wendet euch bitte vorab an uns\r\n\r\nBitte bringt wettergerechte Kleidung\, Sonnenschutz und Wechselkleidung mit\r\n\r\nDas Programm richtet sich an Grundschulkinder.\r\n\r\nKontakt\r\nTobias Jürgens\r\n0152 09382464\r\ntobias.juergens@lernenfoerndern.de\r\n\r\n\r\n
URL;VALUE=URI:https://www.unser-ferienprogramm.de/abenteuerkiste/veranstaltung.php?id=150096
SUMMARY:2. Sommerferienwoche  -  Lernen fördern an der Marienschule
DTSTART;TZID=Europe/Berlin:20260727T073000
END:VEVENT

END:VCALENDAR
