BEGIN:VCALENDAR
VERSION:2.0
PRODID:-//hacksw/handcal//NONSGML v1.0//EN
CALSCALE:GREGORIAN
BEGIN:VTIMEZONE
TZID:Europe/Berlin
X-LIC-LOCATION:Europe/Berlin
BEGIN:DAYLIGHT
TZOFFSETFROM:+0100
TZOFFSETTO:+0200
TZNAME:CEST
DTSTART:19700329T020000
RRULE:FREQ=YEARLY;BYDAY=-1SU;BYMONTH=3
END:DAYLIGHT
BEGIN:STANDARD
TZOFFSETFROM:+0200
TZOFFSETTO:+0100
TZNAME:CET
DTSTART:19701025T030000
RRULE:FREQ=YEARLY;BYDAY=-1SU;BYMONTH=10
END:STANDARD
END:VTIMEZONE
BEGIN:VEVENT
DTEND;TZID=Europe/Berlin:20260801T160000
UID:69ed1cd77ec0f
DTSTAMP:20260425T215815
LOCATION:Die Outdoor Schmiede\, Melbeck
DESCRIPTION:Dieses Jahr steht ein wieder ein aufregendes Abenteuer bevor! Diesmal in der Outdoorschmiede in Melbeck. In Holzhütten sind wir untergebracht. Mitten in der Natur! Viel Wald und Wiese ist um uns herum. \r\nDie Anreise erfolgt wie gewohnt bequem mit einem Reisebus. Ein Sommer voller Spaß\, Spiel und Abenteuer wartet auf Ihre Kinder – melden Sie sie jetzt an und lassen Sie sie Teil dieser unvergesslichen Ferienfreizeit werden!\r\nMehr zum Platz unter: https://dieoutdoorschmiede.de/lodges\r\n\r\nWillst Du als Elternteil während der Woche auf dem Laufenden bleiben?\r\nDann schau dir den Blog auf unserer Homepage an!
URL;VALUE=URI:https://www.unser-ferienprogramm.de/abenteuerkiste/veranstaltung.php?id=149927
SUMMARY:2. Sommerferienwoche - Feriencamp in Melbeck
DTSTART;TZID=Europe/Berlin:20260725T140000
END:VEVENT

END:VCALENDAR
