BEGIN:VCALENDAR
VERSION:2.0
PRODID:-//hacksw/handcal//NONSGML v1.0//EN
CALSCALE:GREGORIAN
BEGIN:VTIMEZONE
TZID:Europe/Berlin
X-LIC-LOCATION:Europe/Berlin
BEGIN:DAYLIGHT
TZOFFSETFROM:+0100
TZOFFSETTO:+0200
TZNAME:CEST
DTSTART:19700329T020000
RRULE:FREQ=YEARLY;BYDAY=-1SU;BYMONTH=3
END:DAYLIGHT
BEGIN:STANDARD
TZOFFSETFROM:+0200
TZOFFSETTO:+0100
TZNAME:CET
DTSTART:19701025T030000
RRULE:FREQ=YEARLY;BYDAY=-1SU;BYMONTH=10
END:STANDARD
END:VTIMEZONE
BEGIN:VEVENT
DTEND;TZID=Europe/Berlin:20261030T160000
UID:69ed314166891
DTSTAMP:20260425T232521
LOCATION:Kinderbauernhof Wigger
DESCRIPTION:Ferienkiste auf dem Kinderbauernhof Wigger. Hier wird Abwechslung großgeschrieben. Du kannst Ponys reiten\, Kaninchen streicheln und Ziegen füttern. Oder aber Du tobst Dich auf einer unserer großen Hüpfburgen aus. Lust auf ein Fußballspiel? Kein Problem. Gehe auf Erkundungstour in die Strohhalle und erlebe spannende Ferien mit dem Ferienkisten-Team. Mit dabei sind natürlich auf die Giraffe\, der Panda\, der Fuchs und der Affe. Sie begleiten Dich durch die Woche.\r\n\r\nDie Ferienkisten-Woche auf dem Kinderbauernhof Wigger ist ein Ganztagesbetreuungsangebot. Wir sind für Dich in der Zeit von 7.30 bis 16 Uhr da.\r\n\r\nWährend der Woche wirst Du in altersgerechte Gruppen eingeteilt und gehört dann zu den Pandas\, den Giraffen\, den Affen oder den Füchsen. \r\n\r\nFür Dein Mittagessen ist gesorgt :)\r\n\r\nWillst Du während der Woche auf dem Laufenden bleiben? Dann lad Dir die Ferienkisten-APP herunter.\r\n
URL;VALUE=URI:https://www.unser-ferienprogramm.de/abenteuerkiste/veranstaltung.php?id=149925
SUMMARY:2. Herbstferienwoche - Hof Wigger
DTSTART;TZID=Europe/Berlin:20261026T073000
END:VEVENT

END:VCALENDAR
