BEGIN:VCALENDAR
VERSION:2.0
PRODID:-//hacksw/handcal//NONSGML v1.0//EN
CALSCALE:GREGORIAN
BEGIN:VTIMEZONE
TZID:Europe/Berlin
X-LIC-LOCATION:Europe/Berlin
BEGIN:DAYLIGHT
TZOFFSETFROM:+0100
TZOFFSETTO:+0200
TZNAME:CEST
DTSTART:19700329T020000
RRULE:FREQ=YEARLY;BYDAY=-1SU;BYMONTH=3
END:DAYLIGHT
BEGIN:STANDARD
TZOFFSETFROM:+0200
TZOFFSETTO:+0100
TZNAME:CET
DTSTART:19701025T030000
RRULE:FREQ=YEARLY;BYDAY=-1SU;BYMONTH=10
END:STANDARD
END:VTIMEZONE
BEGIN:VEVENT
DTEND;TZID=Europe/Berlin:20260402T160000
UID:69ed406249a09
DTSTAMP:20260426T002954
LOCATION:Josefgrundschule Greven
DESCRIPTION:Spiel\, Sport und Spaß im Offenen Ganztag an der Josefschule  –  Es erwartet euch ein kreatives Programm\, viel Zeit für Freies Spiel und eigene Ideen. \r\nBringt bitte wettergemäße Kleidung (auch für draußen)\, Hausschuhe und Sportkleidung mit! \r\n\r\nFlexibles Ankommen bis 9.00 Uhr \r\nFrühstück um 9.00 Uhr (Frühstück bitte mitbringen)\r\nMittagessen um 12.30 Uhr\r\nAbholzeiten 13.00 Uhr\, 14.00 Uhr\, 15.00 Uhr oder 16.00 Uhr\, nach individueller Absprache mit den Eltern\r\n\r\n
URL;VALUE=URI:https://www.unser-ferienprogramm.de/abenteuerkiste/veranstaltung.php?id=149915
SUMMARY:1. Osterferienwoche - St. Josefgrundschule
DTSTART;TZID=Europe/Berlin:20260330T073000
END:VEVENT

END:VCALENDAR
