BEGIN:VCALENDAR
VERSION:2.0
PRODID:-//hacksw/handcal//NONSGML v1.0//EN
CALSCALE:GREGORIAN
BEGIN:VTIMEZONE
TZID:Europe/Berlin
X-LIC-LOCATION:Europe/Berlin
BEGIN:DAYLIGHT
TZOFFSETFROM:+0100
TZOFFSETTO:+0200
TZNAME:CEST
DTSTART:19700329T020000
RRULE:FREQ=YEARLY;BYDAY=-1SU;BYMONTH=3
END:DAYLIGHT
BEGIN:STANDARD
TZOFFSETFROM:+0200
TZOFFSETTO:+0100
TZNAME:CET
DTSTART:19701025T030000
RRULE:FREQ=YEARLY;BYDAY=-1SU;BYMONTH=10
END:STANDARD
END:VTIMEZONE
BEGIN:VEVENT
DTEND;TZID=Europe/Berlin:20250801T160000
UID:69e5fbdb88a62
DTSTAMP:20260420T121139
LOCATION:Albert-Servais-Allee 50
DESCRIPTION:Stell Dir vor\, in einer ganzen Woche in den Sommerferien dreht sich alles um die Pferde!\r\nFünf Tage lang gibt es neben vielen lustigen Spielen und Basteln vor allem eins: Du kannst viel über Pferde lernen! Wie putzt man ein Pferd? Was fressen Pferde? Und was sind Hufschlagfiguren? Du darfst den Tag mit Ponys auf dem CHIO Aachen Turniergelände verbringen und (mit Hilfe) ein Paar Runden reiten - ganz ohne Vorerfahrungen oder auch bereits mit Vorerfahrung.\r\nDu kannst mitmachen\, wenn Du zwischen 5 und 10 Jahren alt bist. Jeden Tag von 9 bis 16 Uhr erlebst Du ein abwechslungsreiches Programm\, egal ob eine Schnitzeljagd oder ein Spaziergang mit den Ponys in der Geländestrecke des CHIO Aachen. Du bekommst Mittagessen und zwischendurch Obst\, Snacks und Getränke. \r\nFreue Dich auf eine spannende Woche!
URL;VALUE=URI:https://www.unser-ferienprogramm.de/aachen/veranstaltung.php?id=81156
SUMMARY:Chio Aachen Kids Camp
DTSTART;TZID=Europe/Berlin:20250728T090000
END:VEVENT

END:VCALENDAR
