BEGIN:VCALENDAR
VERSION:2.0
PRODID:-//hacksw/handcal//NONSGML v1.0//EN
CALSCALE:GREGORIAN
BEGIN:VTIMEZONE
TZID:Europe/Berlin
X-LIC-LOCATION:Europe/Berlin
BEGIN:DAYLIGHT
TZOFFSETFROM:+0100
TZOFFSETTO:+0200
TZNAME:CEST
DTSTART:19700329T020000
RRULE:FREQ=YEARLY;BYDAY=-1SU;BYMONTH=3
END:DAYLIGHT
BEGIN:STANDARD
TZOFFSETFROM:+0200
TZOFFSETTO:+0100
TZNAME:CET
DTSTART:19701025T030000
RRULE:FREQ=YEARLY;BYDAY=-1SU;BYMONTH=10
END:STANDARD
END:VTIMEZONE
BEGIN:VEVENT
DTEND;TZID=Europe/Berlin:20260731T160000
UID:69e5e26d9bb87
DTSTAMP:20260420T102309
LOCATION:Euro Jugend e.V. Bendstraße 33
DESCRIPTION:Ihr seid als rasende Reporter unterwegs\, lernt das Moderieren und die Technik des Radiomachens kennen. Interviews und Umfragen auf der Straße macht Ihr zu spannenden Beiträgen. Und schließlich hört Ihr Eure eigene Sendung am Ende der Woche bei Antenne AC (107\,8 und 100\,1 UKW)
URL;VALUE=URI:https://www.unser-ferienprogramm.de/aachen/veranstaltung.php?id=64672
SUMMARY:Radio Ragazzi "Die Radiowoche"   (SRW 008-26)
DTSTART;TZID=Europe/Berlin:20260727T100000
END:VEVENT

END:VCALENDAR
