BEGIN:VCALENDAR
VERSION:2.0
PRODID:-//hacksw/handcal//NONSGML v1.0//EN
CALSCALE:GREGORIAN
BEGIN:VTIMEZONE
TZID:Europe/Berlin
X-LIC-LOCATION:Europe/Berlin
BEGIN:DAYLIGHT
TZOFFSETFROM:+0100
TZOFFSETTO:+0200
TZNAME:CEST
DTSTART:19700329T020000
RRULE:FREQ=YEARLY;BYDAY=-1SU;BYMONTH=3
END:DAYLIGHT
BEGIN:STANDARD
TZOFFSETFROM:+0200
TZOFFSETTO:+0100
TZNAME:CET
DTSTART:19701025T030000
RRULE:FREQ=YEARLY;BYDAY=-1SU;BYMONTH=10
END:STANDARD
END:VTIMEZONE
BEGIN:VEVENT
DTEND;TZID=Europe/Berlin:20260731T160000
UID:69e5e2939aa71
DTSTAMP:20260420T102347
LOCATION:Gut Rosenberg\, Horbacher Straße 319\, 52072 Aachen
DESCRIPTION:In dieser Ferienwoche tauchen die Kinder in ein fantasievolles Königreich ein. Begleitet von erfahrenen Dozentinnen und Dozenten entdecken sie verschiedene handwerkliche Techniken und arbeiten mit unterschiedlichen Materialien.\r\nIn der Holzwerkstatt\, beim Schmieden und beim Blaudruck können die Kinder kreativ werden\, eigene Ideen umsetzen und handwerkliche Erfahrungen sammeln. Dabei stehen das Ausprobieren\, das gemeinsame Gestalten und die Freude am Tun im Mittelpunkt.\r\nTeamgeist\, Konzentration und Selbstvertrauen werden spielerisch gefördert.\r\n\r\nIn der Teilnehmergebühr sind Materialkosten\, Mittagessen und Getränke enthalten.
URL;VALUE=URI:https://www.unser-ferienprogramm.de/aachen/veranstaltung.php?id=62592
SUMMARY:Mein eigenes Königreich
DTSTART;TZID=Europe/Berlin:20260727T091500
END:VEVENT

END:VCALENDAR
