BEGIN:VCALENDAR
VERSION:2.0
PRODID:-//hacksw/handcal//NONSGML v1.0//EN
CALSCALE:GREGORIAN
BEGIN:VTIMEZONE
TZID:Europe/Berlin
X-LIC-LOCATION:Europe/Berlin
BEGIN:DAYLIGHT
TZOFFSETFROM:+0100
TZOFFSETTO:+0200
TZNAME:CEST
DTSTART:19700329T020000
RRULE:FREQ=YEARLY;BYDAY=-1SU;BYMONTH=3
END:DAYLIGHT
BEGIN:STANDARD
TZOFFSETFROM:+0200
TZOFFSETTO:+0100
TZNAME:CET
DTSTART:19701025T030000
RRULE:FREQ=YEARLY;BYDAY=-1SU;BYMONTH=10
END:STANDARD
END:VTIMEZONE
BEGIN:VEVENT
DTEND;TZID=Europe/Berlin:20260820T000000
UID:69e5e291e41fb
DTSTAMP:20260420T102345
LOCATION:Aachen
DESCRIPTION:Du bist zwischen 10 und 15 Jahre alt und hast Lust auf einen unvergesslichen Sommre voller Abenteuer\, Natur und Gemeinschaft in Südfrankreich? Dann komm mit!\r\nZusammen fahren wir vom 8.8. bis 20.8.2026 nach Pont du Gard\, Südfrankreich.\r\nMach Dich bereit für tolle Ausflüge\, nette Leute\, Abenteuer und vergiss Deine Badesachen nicht.\r\nUnsere Gruppe besteht aus 60 Kindern und Jugendlichen sowie 15 Leiter*innen\, die bestens vorbereitet sind\, um Dich zu unterstützen. Alle haben einen Gruppenleiterkurs\, Erste Hilfe Kurs sowie eine Präventionsschulung absolviert. \r\nWir freuen uns auf Euch!\r\n\r\nKosten: 535 Euro für KSJ Mitglieder\r\n             575 Euro für Schnuppermitglieder\r\ninkl. Anreise im Reisebus und Verpflegung\r\nUnterbringung: Maison Familliale Rurale Pont du Gard\r\nWebseite Unterkunft: https://www.mfr-pontdogard.com\r\nVor Beginn des Sommerlagers findet ein Elternabend statt\, sodass Sie alle Fragen bereits vorab loswerden können.\r\nFür die Teilnahme am Sommerlager ist eine Mitgliedschaft in der KSJ nötig. Daher bieten wir eine einmalige beitragsfreie und befristete Schnuppermitgliedschaft an. 
URL;VALUE=URI:https://www.unser-ferienprogramm.de/aachen/veranstaltung.php?id=303440
SUMMARY:Sommer Lager 2026 Südfrankreich
DTSTART;TZID=Europe/Berlin:20260808T000000
END:VEVENT

END:VCALENDAR
