BEGIN:VCALENDAR
VERSION:2.0
PRODID:-//hacksw/handcal//NONSGML v1.0//EN
CALSCALE:GREGORIAN
BEGIN:VTIMEZONE
TZID:Europe/Berlin
X-LIC-LOCATION:Europe/Berlin
BEGIN:DAYLIGHT
TZOFFSETFROM:+0100
TZOFFSETTO:+0200
TZNAME:CEST
DTSTART:19700329T020000
RRULE:FREQ=YEARLY;BYDAY=-1SU;BYMONTH=3
END:DAYLIGHT
BEGIN:STANDARD
TZOFFSETFROM:+0200
TZOFFSETTO:+0100
TZNAME:CET
DTSTART:19701025T030000
RRULE:FREQ=YEARLY;BYDAY=-1SU;BYMONTH=10
END:STANDARD
END:VTIMEZONE
BEGIN:VEVENT
DTEND;TZID=Europe/Berlin:20260821T000000
UID:69e5e28f314bb
DTSTAMP:20260420T102343
LOCATION:je nach Veranstaltung
DESCRIPTION:Bei der MINT-Schüler*innenuni lernst Du jeden Tag ein anderes Lernlabor der RWTH Aachen kennen und experimentierst in spannenden Workshops aus dem MINT-Bereich.\r\nIn diesem Jahr nehmen unter anderem die Lernlabore aus den Bereichen Mathematik\, Informatik\, Chemie und Robotik teil. \r\nFür Schülerinnen und Schüler eines Gymnasiums gilt: Du solltest die 8. oder 9. Klassenstufe vor den Sommerferien abgeschlossen haben.\r\nFür Schülerinnen und Schüler einer Gesamt- und Realschule gilt: Du solltest die 10. Jahrgangsstufe in den Sommerferien abgeschlossen haben.\r\n\r\nAlle Infos findest Du unter \r\nwww.rwth-aachen.de/schueler-innenuni\r\n
URL;VALUE=URI:https://www.unser-ferienprogramm.de/aachen/veranstaltung.php?id=179969
SUMMARY:Schüler*innenuni in den MINT Fächern
DTSTART;TZID=Europe/Berlin:20260817T000000
END:VEVENT

END:VCALENDAR
