BEGIN:VCALENDAR
VERSION:2.0
PRODID:-//hacksw/handcal//NONSGML v1.0//EN
CALSCALE:GREGORIAN
BEGIN:VTIMEZONE
TZID:Europe/Berlin
X-LIC-LOCATION:Europe/Berlin
BEGIN:DAYLIGHT
TZOFFSETFROM:+0100
TZOFFSETTO:+0200
TZNAME:CEST
DTSTART:19700329T020000
RRULE:FREQ=YEARLY;BYDAY=-1SU;BYMONTH=3
END:DAYLIGHT
BEGIN:STANDARD
TZOFFSETFROM:+0200
TZOFFSETTO:+0100
TZNAME:CET
DTSTART:19701025T030000
RRULE:FREQ=YEARLY;BYDAY=-1SU;BYMONTH=10
END:STANDARD
END:VTIMEZONE
BEGIN:VEVENT
DTEND;TZID=Europe/Berlin:20261030T150000
UID:69e5e2d51e825
DTSTAMP:20260420T102453
LOCATION:Aachen
DESCRIPTION:Vorhang auf für ein unvergessliches Ferienabenteuer! In unserem Zirkuscamp tauchst Du ein in eine bunte Welt voller Spaß\, Kreativität und Magie. Eine Woche lang dreht sich alles um Jonglierbälle\, Clownsnasen\, Kostüme und spektakuläre Kunststücke.\r\nNeben toller Zirkusaction bleibt natürlich genug Zeit für Spiel\, Entspannung und Abenteuer im Freien. Beim Toben\, Basteln oder gemeinsamen Musizieren wachst Ihr zu einer echten Zirkusfamilie zusammen. \r\nAlso - Manege frei! Wenn Du Lust hast\, Neues auszuprobieren\, Deine Talent zu entdecken und eine Woche voller Spaß und Überraschungen zu erleben\, dann bist Du in unserem Feriencamp genau richtig. \r\nFür Kinder und Jugendliche mit Behinderung\r\n\r\nWeitere Infos im Jahresprogramm 2026 unter www.fed-aachen.de\r\n
URL;VALUE=URI:https://www.unser-ferienprogramm.de/aachen/veranstaltung.php?id=155635
SUMMARY:Herbstferiencamp 2026 "Hereinspaziert - Komm mit in die geheimnisvolle Welt des Zirkus"
DTSTART;TZID=Europe/Berlin:20261026T090000
END:VEVENT

END:VCALENDAR
