BEGIN:VCALENDAR
VERSION:2.0
PRODID:-//hacksw/handcal//NONSGML v1.0//EN
CALSCALE:GREGORIAN
BEGIN:VTIMEZONE
TZID:Europe/Berlin
X-LIC-LOCATION:Europe/Berlin
BEGIN:DAYLIGHT
TZOFFSETFROM:+0100
TZOFFSETTO:+0200
TZNAME:CEST
DTSTART:19700329T020000
RRULE:FREQ=YEARLY;BYDAY=-1SU;BYMONTH=3
END:DAYLIGHT
BEGIN:STANDARD
TZOFFSETFROM:+0200
TZOFFSETTO:+0100
TZNAME:CET
DTSTART:19701025T030000
RRULE:FREQ=YEARLY;BYDAY=-1SU;BYMONTH=10
END:STANDARD
END:VTIMEZONE
BEGIN:VEVENT
DTEND;TZID=Europe/Berlin:20260807T150000
UID:69e5e2d209753
DTSTAMP:20260420T102450
LOCATION:Aachen
DESCRIPTION:Achtung\, Einsatz für alle Ferienheld*innen! In dieser Woche dreht sich alles um das spannende Leben der Menschen\, die täglich im Einsatz sind\, um anderen zu helfen - Feuerwehr\, Polizei\, Rettungsdienst und Co.\r\nGemeinsam entdecken wir\, was hinter dem Blaulicht steckt! Wie löscht man ein Feuer? Wie hilft man bei einem Unfall? Und was macht eigentlich die Polizei den ganzen Tag? Mit spannenden Spielen\, coolen Aktionen und echten Rettungseinsätzen zum Ausprobieren lernst Du alles rund um Teamgeist\, Mut und Verantwortung. \r\nVielleicht kannst Du sogar echte Einsatzfahrzeuge aus der Nähe bestaunen\, einen Notruf üben oder bei einer kleinen "Rettungsmission" mitmachen! Natürlich bleibt auch genug Zeit für Spiel\, Spaß\, Basteln und sommerliche Abenteuer draußen an der frischen Luft. Also Helm auf\, Blaulicht an und los geht es!\r\nFür Kinder und Jugendliche mit Behinderung\r\n\r\nKosten: 13\,75 Euro pro Betreuungsstunde und 50 Euro Sachkosten\, bei Bedarf ca. 200 Euro plus Fahrtkosten für Holen und Bringen.\r\nRufen Sie uns bei Fragen zur Kostenerstattung bitte an!\r\n\r\n
URL;VALUE=URI:https://www.unser-ferienprogramm.de/aachen/veranstaltung.php?id=155622
SUMMARY:Sommerferienalarm - mit dem Blaulicht unterwegs
DTSTART;TZID=Europe/Berlin:20260803T090000
END:VEVENT

END:VCALENDAR
