BEGIN:VCALENDAR
VERSION:2.0
PRODID:-//hacksw/handcal//NONSGML v1.0//EN
CALSCALE:GREGORIAN
BEGIN:VTIMEZONE
TZID:Europe/Berlin
X-LIC-LOCATION:Europe/Berlin
BEGIN:DAYLIGHT
TZOFFSETFROM:+0100
TZOFFSETTO:+0200
TZNAME:CEST
DTSTART:19700329T020000
RRULE:FREQ=YEARLY;BYDAY=-1SU;BYMONTH=3
END:DAYLIGHT
BEGIN:STANDARD
TZOFFSETFROM:+0200
TZOFFSETTO:+0100
TZNAME:CET
DTSTART:19701025T030000
RRULE:FREQ=YEARLY;BYDAY=-1SU;BYMONTH=10
END:STANDARD
END:VTIMEZONE
BEGIN:VEVENT
DTEND;TZID=Europe/Berlin:20260830T000000
UID:69e5e29e8bba7
DTSTAMP:20260420T102358
LOCATION:Hochstraße 16\, 52078 Aachen
DESCRIPTION:Ostsee Sommer 2026 Dänemark\r\nUriges Holzhaus und Surfstrand\r\nAuf in den Norden!\r\nNatur pur und ein traumhaft idyllisches Haus in Strandnähe.\r\n\r\nUnser Angebot für sonnenhungrige aktive junge Menschen ab 14 Jahre:\r\n\r\nWassersportangebote\, Windsurfboards \r\nuriges Holzhaus mit Mehrbettzimmern\, top Küche\, Spülmaschine etc.\r\nActiontage und Touren in die Umgebung\r\nGemeinschaftsleben der besonderen Art\r\nAnreise im Luxus-Reisebus\r\nSonnenterrassen\r\nVollverpflegung und Getränke zum Essen\, ..\r\nKüchenspaß ist garantiert\, denn: Wir rocken gemeinsam die Küche\, ….\r\nAbende mit Grill\, Lagerfeuer & viel Atmosphäre\r\nWir werden einige Wochen vor der Abfahrt zu einem Vortreffen einladen\, um alle finalen Infos mitzuteilen!\r\nUnser Haus Dokkedal liegt in Nordjütland auf einem ca. 25.000 m² großen Naturgrundstück direkt neben den bekannten Hügeln Mulbjerge mit Wald und Blick auf den Kattegat (Ostsee). Das ca. 300 m² große gemütliche Holzhaus mit Grasdach bietet einen Aufenthaltsraum mit Kamin sowie einen Speisesaal mit Kaminofen.  Außen findet Ihr eine überdachte und zwei offene Terrassen. Für Spaß und Action ist die Spielwiese mit zwei Toren ausgestattet und daneben wartet die Petanquebahn und die Feuerstelle auf Euch.\r\n\r\nDer schöne Badeort Dokkedal am Fuße der Mulbjerge steht heute unter Naturschutz. Die beiden Naturschutzgebiete Mulbjerge und Kongerslev Hede sind für weite Wanderungen wie geschaffen. Die ca. 15 km Kattegatküste hat viele Bademöglichkeiten und die seichten Strecken an der Küste bieten je nach Wind gute Bedingungen für Surfer. Durch das Gebiet führt ein Netz von Radwegen\, z. B. die nationale Route 5 "Østkystruten". Hinzu kommt noch der Radweg zwischen Egense und Dokkedal.  Auch Aalborg\, die viertgrößte Stadt Dänemarks\, ist immer einen Ausflug wert.\r\n\r\nAnmeldung und weitere Infos gibt es bei uns im Büro. Wir sind derzeit ausgebucht!\r\nBei erhöhter Nachfrage gelten die bei uns üblichen Anmelderegelungen: 1. ehrenamtlich Mitarbeitende\, 2. Menschen aus Brand\, 3. gruppenbegeisterte junge  Menschen\, ...\r\n\r\n
URL;VALUE=URI:https://www.unser-ferienprogramm.de/aachen/veranstaltung.php?id=117950
SUMMARY:Jugendferienfahrt "Ostseesommer 2026 in Dänemark (ausgebucht)
DTSTART;TZID=Europe/Berlin:20260816T000000
END:VEVENT

END:VCALENDAR
