BEGIN:VCALENDAR
VERSION:2.0
PRODID:-//hacksw/handcal//NONSGML v1.0//EN
CALSCALE:GREGORIAN
BEGIN:VTIMEZONE
TZID:Europe/Berlin
X-LIC-LOCATION:Europe/Berlin
BEGIN:DAYLIGHT
TZOFFSETFROM:+0100
TZOFFSETTO:+0200
TZNAME:CEST
DTSTART:19700329T020000
RRULE:FREQ=YEARLY;BYDAY=-1SU;BYMONTH=3
END:DAYLIGHT
BEGIN:STANDARD
TZOFFSETFROM:+0200
TZOFFSETTO:+0100
TZNAME:CET
DTSTART:19701025T030000
RRULE:FREQ=YEARLY;BYDAY=-1SU;BYMONTH=10
END:STANDARD
END:VTIMEZONE
BEGIN:VEVENT
DTEND;TZID=Europe/Berlin:20261019T160000
UID:69ebe35124f9b
DTSTAMP:20260424T234033
LOCATION:NewKOMMA Altenhundem 
DESCRIPTION:Ganztagsbetreuung für Schulkinder inkl. Mittagessen\r\n\r\nBITTE BEACHTEN SIE: Eine kostenlose Stornierung ist nur bis zum 28.02.2026 möglich. Bei späterer Absage wird die komplette Gebühr fällig!\r\n\r\nBei weniger als 10 Anmeldungen behalten wir uns vor das Angebot frühzeitig abzusagen\r\n\r\nDie Ferienbetreuung für Kinder im Alter von 6 – 12 Jahren wird als Ganztags- oder Halbtagsbetreuung jeweils in den Oster-\, Sommer- und Herbstferien angeboten und ist eine Kooperation zwischen der Stadt Lennestadt\, der Gemeinde Kirchhundem und dem Trägerwerk für offene und aufsuchende Jugendarbeit e.V.. Durchgeführt und begleitet wird das Projekt vom HANAH-Servicebüro für Familien und Senioren und der Gleichstellungsbeauftragten der Stadt Lennestadt.\r\n\r\nDie Ferienbetreuung wird von der Stadt Lennestadt organisiert und in verschiedenen Orten/Räumlichkeiten (NewKomma in Altenhundem\, Jugendtreff in Kirchhundem\, Grundschule in Elspe oder als Outdoorbetreuung) angeboten.\r\n\r\nDie Anmeldung ist nur Wochenweise möglich!\r\n\r\nDie Ferienbetreuung wir generell inklusive Mittagessen angeboten. Für das Mittagessen werden pro Tag 3\,00 berechnet die im Betreuungspreis enthalten sind.\r\n\r\nDas Mittagessen wird in der Betreuung gemeinsam mit den Kindern frisch zubereitet.\r\n\r\nGeschulte Mitarbeiter bieten ein abwechslungsreiches Programm für jeden Geschmack\, inklusive Frühstück und ein frisch zubereitetes Mittagessen. Auf dem Programm stehen Sport\, Spiel\, Spaß in allen Variationen\, von der Bastelstunde bis zum Schatzsuche.
URL;VALUE=URI:https://www.unser-ferienprogramm.de/Lennestadt/veranstaltung.php?id=244058
SUMMARY:Ferienbetreuung 1. FeWo Herbst 2026 - Ganztags im NewKOMMA 
DTSTART;TZID=Europe/Berlin:20261019T073000
END:VEVENT


BEGIN:VEVENT
DTEND;TZID=Europe/Berlin:20261020T160000
UID:69ebe35124fd51
DTSTAMP:20260424T234033
LOCATION:NewKOMMA Altenhundem 
DESCRIPTION:Ganztagsbetreuung für Schulkinder inkl. Mittagessen\r\n\r\nBITTE BEACHTEN SIE: Eine kostenlose Stornierung ist nur bis zum 28.02.2026 möglich. Bei späterer Absage wird die komplette Gebühr fällig!\r\n\r\nBei weniger als 10 Anmeldungen behalten wir uns vor das Angebot frühzeitig abzusagen\r\n\r\nDie Ferienbetreuung für Kinder im Alter von 6 – 12 Jahren wird als Ganztags- oder Halbtagsbetreuung jeweils in den Oster-\, Sommer- und Herbstferien angeboten und ist eine Kooperation zwischen der Stadt Lennestadt\, der Gemeinde Kirchhundem und dem Trägerwerk für offene und aufsuchende Jugendarbeit e.V.. Durchgeführt und begleitet wird das Projekt vom HANAH-Servicebüro für Familien und Senioren und der Gleichstellungsbeauftragten der Stadt Lennestadt.\r\n\r\nDie Ferienbetreuung wird von der Stadt Lennestadt organisiert und in verschiedenen Orten/Räumlichkeiten (NewKomma in Altenhundem\, Jugendtreff in Kirchhundem\, Grundschule in Elspe oder als Outdoorbetreuung) angeboten.\r\n\r\nDie Anmeldung ist nur Wochenweise möglich!\r\n\r\nDie Ferienbetreuung wir generell inklusive Mittagessen angeboten. Für das Mittagessen werden pro Tag 3\,00 berechnet die im Betreuungspreis enthalten sind.\r\n\r\nDas Mittagessen wird in der Betreuung gemeinsam mit den Kindern frisch zubereitet.\r\n\r\nGeschulte Mitarbeiter bieten ein abwechslungsreiches Programm für jeden Geschmack\, inklusive Frühstück und ein frisch zubereitetes Mittagessen. Auf dem Programm stehen Sport\, Spiel\, Spaß in allen Variationen\, von der Bastelstunde bis zum Schatzsuche.
URL;VALUE=URI:https://www.unser-ferienprogramm.de/Lennestadt/veranstaltung.php?id=244058
SUMMARY:Ferienbetreuung 1. FeWo Herbst 2026 - Ganztags im NewKOMMA 
DTSTART;TZID=Europe/Berlin:20261020T073000
END:VEVENT


BEGIN:VEVENT
DTEND;TZID=Europe/Berlin:20261021T160000
UID:69ebe35124fe92
DTSTAMP:20260424T234033
LOCATION:NewKOMMA Altenhundem 
DESCRIPTION:Ganztagsbetreuung für Schulkinder inkl. Mittagessen\r\n\r\nBITTE BEACHTEN SIE: Eine kostenlose Stornierung ist nur bis zum 28.02.2026 möglich. Bei späterer Absage wird die komplette Gebühr fällig!\r\n\r\nBei weniger als 10 Anmeldungen behalten wir uns vor das Angebot frühzeitig abzusagen\r\n\r\nDie Ferienbetreuung für Kinder im Alter von 6 – 12 Jahren wird als Ganztags- oder Halbtagsbetreuung jeweils in den Oster-\, Sommer- und Herbstferien angeboten und ist eine Kooperation zwischen der Stadt Lennestadt\, der Gemeinde Kirchhundem und dem Trägerwerk für offene und aufsuchende Jugendarbeit e.V.. Durchgeführt und begleitet wird das Projekt vom HANAH-Servicebüro für Familien und Senioren und der Gleichstellungsbeauftragten der Stadt Lennestadt.\r\n\r\nDie Ferienbetreuung wird von der Stadt Lennestadt organisiert und in verschiedenen Orten/Räumlichkeiten (NewKomma in Altenhundem\, Jugendtreff in Kirchhundem\, Grundschule in Elspe oder als Outdoorbetreuung) angeboten.\r\n\r\nDie Anmeldung ist nur Wochenweise möglich!\r\n\r\nDie Ferienbetreuung wir generell inklusive Mittagessen angeboten. Für das Mittagessen werden pro Tag 3\,00 berechnet die im Betreuungspreis enthalten sind.\r\n\r\nDas Mittagessen wird in der Betreuung gemeinsam mit den Kindern frisch zubereitet.\r\n\r\nGeschulte Mitarbeiter bieten ein abwechslungsreiches Programm für jeden Geschmack\, inklusive Frühstück und ein frisch zubereitetes Mittagessen. Auf dem Programm stehen Sport\, Spiel\, Spaß in allen Variationen\, von der Bastelstunde bis zum Schatzsuche.
URL;VALUE=URI:https://www.unser-ferienprogramm.de/Lennestadt/veranstaltung.php?id=244058
SUMMARY:Ferienbetreuung 1. FeWo Herbst 2026 - Ganztags im NewKOMMA 
DTSTART;TZID=Europe/Berlin:20261021T073000
END:VEVENT


BEGIN:VEVENT
DTEND;TZID=Europe/Berlin:20261022T160000
UID:69ebe35124ff93
DTSTAMP:20260424T234033
LOCATION:NewKOMMA Altenhundem 
DESCRIPTION:Ganztagsbetreuung für Schulkinder inkl. Mittagessen\r\n\r\nBITTE BEACHTEN SIE: Eine kostenlose Stornierung ist nur bis zum 28.02.2026 möglich. Bei späterer Absage wird die komplette Gebühr fällig!\r\n\r\nBei weniger als 10 Anmeldungen behalten wir uns vor das Angebot frühzeitig abzusagen\r\n\r\nDie Ferienbetreuung für Kinder im Alter von 6 – 12 Jahren wird als Ganztags- oder Halbtagsbetreuung jeweils in den Oster-\, Sommer- und Herbstferien angeboten und ist eine Kooperation zwischen der Stadt Lennestadt\, der Gemeinde Kirchhundem und dem Trägerwerk für offene und aufsuchende Jugendarbeit e.V.. Durchgeführt und begleitet wird das Projekt vom HANAH-Servicebüro für Familien und Senioren und der Gleichstellungsbeauftragten der Stadt Lennestadt.\r\n\r\nDie Ferienbetreuung wird von der Stadt Lennestadt organisiert und in verschiedenen Orten/Räumlichkeiten (NewKomma in Altenhundem\, Jugendtreff in Kirchhundem\, Grundschule in Elspe oder als Outdoorbetreuung) angeboten.\r\n\r\nDie Anmeldung ist nur Wochenweise möglich!\r\n\r\nDie Ferienbetreuung wir generell inklusive Mittagessen angeboten. Für das Mittagessen werden pro Tag 3\,00 berechnet die im Betreuungspreis enthalten sind.\r\n\r\nDas Mittagessen wird in der Betreuung gemeinsam mit den Kindern frisch zubereitet.\r\n\r\nGeschulte Mitarbeiter bieten ein abwechslungsreiches Programm für jeden Geschmack\, inklusive Frühstück und ein frisch zubereitetes Mittagessen. Auf dem Programm stehen Sport\, Spiel\, Spaß in allen Variationen\, von der Bastelstunde bis zum Schatzsuche.
URL;VALUE=URI:https://www.unser-ferienprogramm.de/Lennestadt/veranstaltung.php?id=244058
SUMMARY:Ferienbetreuung 1. FeWo Herbst 2026 - Ganztags im NewKOMMA 
DTSTART;TZID=Europe/Berlin:20261022T073000
END:VEVENT


BEGIN:VEVENT
DTEND;TZID=Europe/Berlin:20261023T160000
UID:69ebe351250084
DTSTAMP:20260424T234033
LOCATION:NewKOMMA Altenhundem 
DESCRIPTION:Ganztagsbetreuung für Schulkinder inkl. Mittagessen\r\n\r\nBITTE BEACHTEN SIE: Eine kostenlose Stornierung ist nur bis zum 28.02.2026 möglich. Bei späterer Absage wird die komplette Gebühr fällig!\r\n\r\nBei weniger als 10 Anmeldungen behalten wir uns vor das Angebot frühzeitig abzusagen\r\n\r\nDie Ferienbetreuung für Kinder im Alter von 6 – 12 Jahren wird als Ganztags- oder Halbtagsbetreuung jeweils in den Oster-\, Sommer- und Herbstferien angeboten und ist eine Kooperation zwischen der Stadt Lennestadt\, der Gemeinde Kirchhundem und dem Trägerwerk für offene und aufsuchende Jugendarbeit e.V.. Durchgeführt und begleitet wird das Projekt vom HANAH-Servicebüro für Familien und Senioren und der Gleichstellungsbeauftragten der Stadt Lennestadt.\r\n\r\nDie Ferienbetreuung wird von der Stadt Lennestadt organisiert und in verschiedenen Orten/Räumlichkeiten (NewKomma in Altenhundem\, Jugendtreff in Kirchhundem\, Grundschule in Elspe oder als Outdoorbetreuung) angeboten.\r\n\r\nDie Anmeldung ist nur Wochenweise möglich!\r\n\r\nDie Ferienbetreuung wir generell inklusive Mittagessen angeboten. Für das Mittagessen werden pro Tag 3\,00 berechnet die im Betreuungspreis enthalten sind.\r\n\r\nDas Mittagessen wird in der Betreuung gemeinsam mit den Kindern frisch zubereitet.\r\n\r\nGeschulte Mitarbeiter bieten ein abwechslungsreiches Programm für jeden Geschmack\, inklusive Frühstück und ein frisch zubereitetes Mittagessen. Auf dem Programm stehen Sport\, Spiel\, Spaß in allen Variationen\, von der Bastelstunde bis zum Schatzsuche.
URL;VALUE=URI:https://www.unser-ferienprogramm.de/Lennestadt/veranstaltung.php?id=244058
SUMMARY:Ferienbetreuung 1. FeWo Herbst 2026 - Ganztags im NewKOMMA 
DTSTART;TZID=Europe/Berlin:20261023T073000
END:VEVENT

END:VCALENDAR
