BEGIN:VCALENDAR
VERSION:2.0
PRODID:-//hacksw/handcal//NONSGML v1.0//EN
CALSCALE:GREGORIAN
BEGIN:VTIMEZONE
TZID:Europe/Berlin
X-LIC-LOCATION:Europe/Berlin
BEGIN:DAYLIGHT
TZOFFSETFROM:+0100
TZOFFSETTO:+0200
TZNAME:CEST
DTSTART:19700329T020000
RRULE:FREQ=YEARLY;BYDAY=-1SU;BYMONTH=3
END:DAYLIGHT
BEGIN:STANDARD
TZOFFSETFROM:+0200
TZOFFSETTO:+0100
TZNAME:CET
DTSTART:19701025T030000
RRULE:FREQ=YEARLY;BYDAY=-1SU;BYMONTH=10
END:STANDARD
END:VTIMEZONE
BEGIN:VEVENT
DTEND;TZID=Europe/Berlin:20260517T170000
UID:69eb997d3c606
DTSTAMP:20260424T182533
LOCATION:Römeranlage im Bürgerpark
DESCRIPTION:Feiern wie die Gallo-Römer - das Fest auf der Römeranlage zum Internationalen Museumstag.\r\n\r\nTauche ein in die Römerzeit! Erfahre\, wie die Menschen vor 1800 Jahren in Lahr lebten und feierten - mit spannenden Führungen\, Mitmachaktionen und Bewirtung.\r\n\r\nFest und Führungen: kostenfrei
URL;VALUE=URI:https://www.unser-ferienprogramm.de/Lahr/veranstaltung.php?id=309792
SUMMARY:Gallo-römisches Fest am Internationalen Museumstag
DTSTART;TZID=Europe/Berlin:20260517T130000
END:VEVENT

END:VCALENDAR
