BEGIN:VCALENDAR
VERSION:2.0
PRODID:-//hacksw/handcal//NONSGML v1.0//EN
CALSCALE:GREGORIAN
BEGIN:VTIMEZONE
TZID:Europe/Berlin
X-LIC-LOCATION:Europe/Berlin
BEGIN:DAYLIGHT
TZOFFSETFROM:+0100
TZOFFSETTO:+0200
TZNAME:CEST
DTSTART:19700329T020000
RRULE:FREQ=YEARLY;BYDAY=-1SU;BYMONTH=3
END:DAYLIGHT
BEGIN:STANDARD
TZOFFSETFROM:+0200
TZOFFSETTO:+0100
TZNAME:CET
DTSTART:19701025T030000
RRULE:FREQ=YEARLY;BYDAY=-1SU;BYMONTH=10
END:STANDARD
END:VTIMEZONE
BEGIN:VEVENT
DTEND;TZID=Europe/Berlin:20260404T170000
UID:69ebbae682e51
DTSTAMP:20260424T204806
LOCATION:Römeranlage im Bürgerpark
DESCRIPTION:In der Römerzeit war der Osterhase den Menschen in Lahr noch unbekannt. Heute hingegen hat er im Streifenhaus kleine Osternester hinterlassen.\r\n\r\nIm Streifenhaus - und bei gutem Wetter auch in dessen Hinterhof - sind kleine Osternester versteckt. Nach einer kurzen Erklärung der Spielregeln beim Anmelde-Tisch\, erhält jedes Kind eine Memory-Karte und darf sich auf die Suche nach dem Osternest machen. Wer das Nest mit der passenden Karte findet\, darf es behalten. \r\n\r\nNur solange der Vorrat reicht.\r\n\r\nÜber eine kleine Spende für das Stadtmuseum würden sich alle Beteiligten freuen.
URL;VALUE=URI:https://www.unser-ferienprogramm.de/Lahr/veranstaltung.php?id=309785
SUMMARY:Ostereier-Suche im Streifenhaus
DTSTART;TZID=Europe/Berlin:20260404T140000
END:VEVENT

END:VCALENDAR
