BEGIN:VCALENDAR
VERSION:2.0
PRODID:-//hacksw/handcal//NONSGML v1.0//EN
CALSCALE:GREGORIAN
BEGIN:VTIMEZONE
TZID:Europe/Berlin
X-LIC-LOCATION:Europe/Berlin
BEGIN:DAYLIGHT
TZOFFSETFROM:+0100
TZOFFSETTO:+0200
TZNAME:CEST
DTSTART:19700329T020000
RRULE:FREQ=YEARLY;BYDAY=-1SU;BYMONTH=3
END:DAYLIGHT
BEGIN:STANDARD
TZOFFSETFROM:+0200
TZOFFSETTO:+0100
TZNAME:CET
DTSTART:19701025T030000
RRULE:FREQ=YEARLY;BYDAY=-1SU;BYMONTH=10
END:STANDARD
END:VTIMEZONE
BEGIN:VEVENT
DTEND;TZID=Europe/Berlin:20260331T170000
UID:69ebb9b14f242
DTSTAMP:20260424T204257
LOCATION:Römeranlage im Bürgerpark
DESCRIPTION:Bereits in der Römerzeit wurden Eier bunt gefärbt. Gestalte deine eigenen Ostereier mit natürlichen Farben\, die wir aus Pflanzen selbst herstellen.\r\n\r\nZusätzlich gehen wir auf die Römeranlage: wir schauen uns das Streifenhaus an und gehen in den Archäobotanischen Garten\, um zu erleben\, wie die Menschen vor 1800 Jahren in der Römerzeit in Lahr lebten.\r\n\r\nWenn vorhanden: bitte einen leeren Eierkarton (6-er oder 10-er) mitbringen für den Transport der gefärbten Eier.
URL;VALUE=URI:https://www.unser-ferienprogramm.de/Lahr/veranstaltung.php?id=309777
SUMMARY:Ostereier färben
DTSTART;TZID=Europe/Berlin:20260331T140000
END:VEVENT

END:VCALENDAR
