BEGIN:VCALENDAR
VERSION:2.0
PRODID:-//hacksw/handcal//NONSGML v1.0//EN
CALSCALE:GREGORIAN
BEGIN:VTIMEZONE
TZID:Europe/Berlin
X-LIC-LOCATION:Europe/Berlin
BEGIN:DAYLIGHT
TZOFFSETFROM:+0100
TZOFFSETTO:+0200
TZNAME:CEST
DTSTART:19700329T020000
RRULE:FREQ=YEARLY;BYDAY=-1SU;BYMONTH=3
END:DAYLIGHT
BEGIN:STANDARD
TZOFFSETFROM:+0200
TZOFFSETTO:+0100
TZNAME:CET
DTSTART:19701025T030000
RRULE:FREQ=YEARLY;BYDAY=-1SU;BYMONTH=10
END:STANDARD
END:VTIMEZONE
BEGIN:VEVENT
DTEND;TZID=Europe/Berlin:20261007T000000
UID:69eb99a32d7ee
DTSTAMP:20260424T182611
LOCATION:
DESCRIPTION:Das Spielmobil ist wieder unterwegs\r\nKinder ab sechs Jahren können teilnehmen und frei entscheiden mit was\, mit wem und wie lange sie spielen wollen. Zur Auswahl stehen zum Beispiel die Klötzchenbaustelle\, eine Malstation\, eine Rollenrutsche\, Holzbrettspiele und noch viel mehr Spiel- und Bastelmaterial. Die „Spielmobiler“ des Schlachthofs – Kinder\, Jugend und Kultur geben Anregungen und Unterstützung. Aber auch die Eltern und alle\, die Lust haben\, sind zum Mitspielen eingeladen. Das Angebot ist kostenfrei\, eine Anmeldung ist nicht erforderlich.\r\n\r\n15.04 Mietersheim Grundschule \r\n22.04 Kunst Park Lahr (altes Singler Areal)\r\n23.04 Reichenbach Spielplatz Grenzenlos \r\n24.04 Kuhbach Grundschule \r\n07.05 Sulz Grundschule \r\n19.05 Kanadaring \r\n08.06 Langenwinkel Grundschule \r\n10.06 Kippenheimweiler Schornsiedlung\r\n15.06 Hugsweier Sportplatz \r\n\r\n07.10 Hort an der Luisenschule \r\n
URL;VALUE=URI:https://www.unser-ferienprogramm.de/Lahr/veranstaltung.php?id=308324
SUMMARY:Spielmobil Lahr 
DTSTART;TZID=Europe/Berlin:20260415T000000
END:VEVENT

END:VCALENDAR
