BEGIN:VCALENDAR
VERSION:2.0
PRODID:-//hacksw/handcal//NONSGML v1.0//EN
CALSCALE:GREGORIAN
BEGIN:VTIMEZONE
TZID:Europe/Berlin
X-LIC-LOCATION:Europe/Berlin
BEGIN:DAYLIGHT
TZOFFSETFROM:+0100
TZOFFSETTO:+0200
TZNAME:CEST
DTSTART:19700329T020000
RRULE:FREQ=YEARLY;BYDAY=-1SU;BYMONTH=3
END:DAYLIGHT
BEGIN:STANDARD
TZOFFSETFROM:+0200
TZOFFSETTO:+0100
TZNAME:CET
DTSTART:19701025T030000
RRULE:FREQ=YEARLY;BYDAY=-1SU;BYMONTH=10
END:STANDARD
END:VTIMEZONE
BEGIN:VEVENT
DTEND;TZID=Europe/Berlin:20260330T160000
UID:69ebbcd667b89
DTSTAMP:20260424T205622
LOCATION:Schlachthof Lahr - Großviehhalle
DESCRIPTION:In diesem Ferien-Workshop werden Kinder zu echten Kräuterdetektiven! Gemeinsam gehen wir auf Entdeckungstour und lernen spannende Wildkräuter kennen. Wir schauen\, riechen\, fühlen und erfahren\, welche Pflanzen essbar sind und welche Geheimnisse sie haben. Natürlich wird auch etwas Leckeres aus Kräutern hergestellt.\r\n\r\nEin kreativer Naturworkshop für neugierige Forscherinnen und Forscher!
URL;VALUE=URI:https://www.unser-ferienprogramm.de/Lahr/veranstaltung.php?id=307950
SUMMARY:Abgesagt!-Kräuterdedektive im Einsatz -wilde Pflanzen entdecken und erforschen
DTSTART;TZID=Europe/Berlin:20260330T143000
END:VEVENT

END:VCALENDAR
