BEGIN:VCALENDAR
VERSION:2.0
PRODID:-//hacksw/handcal//NONSGML v1.0//EN
CALSCALE:GREGORIAN
BEGIN:VTIMEZONE
TZID:Europe/Berlin
X-LIC-LOCATION:Europe/Berlin
BEGIN:DAYLIGHT
TZOFFSETFROM:+0100
TZOFFSETTO:+0200
TZNAME:CEST
DTSTART:19700329T020000
RRULE:FREQ=YEARLY;BYDAY=-1SU;BYMONTH=3
END:DAYLIGHT
BEGIN:STANDARD
TZOFFSETFROM:+0200
TZOFFSETTO:+0100
TZNAME:CET
DTSTART:19701025T030000
RRULE:FREQ=YEARLY;BYDAY=-1SU;BYMONTH=10
END:STANDARD
END:VTIMEZONE
BEGIN:VEVENT
DTEND;TZID=Europe/Berlin:20260603T120000
UID:69eb997c7f519
DTSTAMP:20260424T182532
LOCATION:KUNSTPARK LAHR
DESCRIPTION:Ja\, wir sind hier bei wünsch-dir-was! Erträume und fantasiere Dir die Welt\, wie sie dir gefällt: Aus Magazinen\, Papierresten und Zeitungen schnippeln und sammeln wir Lieblings-Wörter oder -Bilder und kleben uns unsere buntesten Wunschwelten zusammen! Du bekommst alles benötigte Material bei mir im Atelier - aber vielleicht möchtest du zuhause schonmal ein paar Schnipsel sammeln und mitbringen?\r\n\r\nIch bin jetzt schon gespannt auf die vielen tollen Ergebnisse.... wir seh´n uns!
URL;VALUE=URI:https://www.unser-ferienprogramm.de/Lahr/veranstaltung.php?id=307579
SUMMARY:Wunschwelt-Collage
DTSTART;TZID=Europe/Berlin:20260603T100000
END:VEVENT

END:VCALENDAR
