BEGIN:VCALENDAR
VERSION:2.0
PRODID:-//hacksw/handcal//NONSGML v1.0//EN
CALSCALE:GREGORIAN
BEGIN:VTIMEZONE
TZID:Europe/Berlin
X-LIC-LOCATION:Europe/Berlin
BEGIN:DAYLIGHT
TZOFFSETFROM:+0100
TZOFFSETTO:+0200
TZNAME:CEST
DTSTART:19700329T020000
RRULE:FREQ=YEARLY;BYDAY=-1SU;BYMONTH=3
END:DAYLIGHT
BEGIN:STANDARD
TZOFFSETFROM:+0200
TZOFFSETTO:+0100
TZNAME:CET
DTSTART:19701025T030000
RRULE:FREQ=YEARLY;BYDAY=-1SU;BYMONTH=10
END:STANDARD
END:VTIMEZONE
BEGIN:VEVENT
DTEND;TZID=Europe/Berlin:20260602T120000
UID:69eb99a474423
DTSTAMP:20260424T182612
LOCATION:KUNSTPARK LAHR
DESCRIPTION:Tape Art ist eine besondere Kunsttechnik\, bei der man nichts außer Klebeband verwendet.\r\nDurch die Überlagerung und Kombination verschiedener\, bunter "Tapes“ kann man sowohl einfache grafische\, bzw. geometrische Muster erstellen als auch komplexe dreidimensionale Kunstwerke schaffen.\r\nIm Gegensatz zu traditioneller Malerei oder Graffiti werden hier keine Malfarben oder andere künstlerische Materialien benötigt – nur ein Karton als Untergrund\, ein Cutter und viel kreative Fantasie - und natürlich jede Menge Klebeband!\r\nAlles\, was du dafür brauchst steht dir im Atelier zur Verfügung.\r\n\r\nmach mit und probier´s aus \; )
URL;VALUE=URI:https://www.unser-ferienprogramm.de/Lahr/veranstaltung.php?id=307577
SUMMARY:TAPE ART
DTSTART;TZID=Europe/Berlin:20260602T100000
END:VEVENT

END:VCALENDAR
