BEGIN:VCALENDAR
VERSION:2.0
PRODID:-//hacksw/handcal//NONSGML v1.0//EN
CALSCALE:GREGORIAN
BEGIN:VTIMEZONE
TZID:Europe/Berlin
X-LIC-LOCATION:Europe/Berlin
BEGIN:DAYLIGHT
TZOFFSETFROM:+0100
TZOFFSETTO:+0200
TZNAME:CEST
DTSTART:19700329T020000
RRULE:FREQ=YEARLY;BYDAY=-1SU;BYMONTH=3
END:DAYLIGHT
BEGIN:STANDARD
TZOFFSETFROM:+0200
TZOFFSETTO:+0100
TZNAME:CET
DTSTART:19701025T030000
RRULE:FREQ=YEARLY;BYDAY=-1SU;BYMONTH=10
END:STANDARD
END:VTIMEZONE
BEGIN:VEVENT
DTEND;TZID=Europe/Berlin:20260601T120000
UID:69eb99a3f1b58
DTSTAMP:20260424T182611
LOCATION:KUNSTPARK LAHR
DESCRIPTION:Wusstest du\, dass du deine eigenen\, wasserfesten Sticker ganz easy selber basteln kannst? Das macht riesigen Spaß und man hat sooo viele Möglichkeiten! Also nix wie ran an die Scheren - und los geht´s! Ich zeig dir\, wie´s geht. Das komplette Material gibt´s bei mir im Atelier \; )  Wenn Du magst\, kannst Du kleine Lieblingsbildchen mitbringen (nicht größer als 10 x 10 cm) Deine fertigen Aufkleber kannnst du mit nach Hause nehmen und sammeln\, tauschen oder weiterverschenken.\r\n\r\n...bis dann - ich freu´mich auf euch!
URL;VALUE=URI:https://www.unser-ferienprogramm.de/Lahr/veranstaltung.php?id=307576
SUMMARY:STiCKER selber machen!
DTSTART;TZID=Europe/Berlin:20260601T110000
END:VEVENT

END:VCALENDAR
