BEGIN:VCALENDAR
VERSION:2.0
PRODID:-//hacksw/handcal//NONSGML v1.0//EN
CALSCALE:GREGORIAN
BEGIN:VTIMEZONE
TZID:Europe/Berlin
X-LIC-LOCATION:Europe/Berlin
BEGIN:DAYLIGHT
TZOFFSETFROM:+0100
TZOFFSETTO:+0200
TZNAME:CEST
DTSTART:19700329T020000
RRULE:FREQ=YEARLY;BYDAY=-1SU;BYMONTH=3
END:DAYLIGHT
BEGIN:STANDARD
TZOFFSETFROM:+0200
TZOFFSETTO:+0100
TZNAME:CET
DTSTART:19701025T030000
RRULE:FREQ=YEARLY;BYDAY=-1SU;BYMONTH=10
END:STANDARD
END:VTIMEZONE
BEGIN:VEVENT
DTEND;TZID=Europe/Berlin:20260414T180000
UID:69eb99a367cf2
DTSTAMP:20260424T182611
LOCATION:Dreyspringstr.16 
DESCRIPTION:Wir experimentieren an 6 Dienstagen mit verschiedenen Materialien und Werkzeugen\, schichten und lasieren Farbe\, entdecken Zufallseffekte\, erzeugen Strukturen und Muster und entwickeln eigene Bilder.\r\n\r\n\r\nBitte Kleidung tragen\, die schmutzig werden darf. Farbe lässt sich schwer bis gar nicht von Kleidung entfernen.
URL;VALUE=URI:https://www.unser-ferienprogramm.de/Lahr/veranstaltung.php?id=306146
SUMMARY:Malworkshop für alle\, die Lust haben\, kreativ zu sein
DTSTART;TZID=Europe/Berlin:20260414T170000
END:VEVENT


BEGIN:VEVENT
DTEND;TZID=Europe/Berlin:20260421T180000
UID:69eb99a367d351
DTSTAMP:20260424T182611
LOCATION:Dreyspringstr.16 
DESCRIPTION:Wir experimentieren an 6 Dienstagen mit verschiedenen Materialien und Werkzeugen\, schichten und lasieren Farbe\, entdecken Zufallseffekte\, erzeugen Strukturen und Muster und entwickeln eigene Bilder.\r\n\r\n\r\nBitte Kleidung tragen\, die schmutzig werden darf. Farbe lässt sich schwer bis gar nicht von Kleidung entfernen.
URL;VALUE=URI:https://www.unser-ferienprogramm.de/Lahr/veranstaltung.php?id=306146
SUMMARY:Malworkshop für alle\, die Lust haben\, kreativ zu sein
DTSTART;TZID=Europe/Berlin:20260421T170000
END:VEVENT


BEGIN:VEVENT
DTEND;TZID=Europe/Berlin:20260428T180000
UID:69eb99a367d422
DTSTAMP:20260424T182611
LOCATION:Dreyspringstr.16 
DESCRIPTION:Wir experimentieren an 6 Dienstagen mit verschiedenen Materialien und Werkzeugen\, schichten und lasieren Farbe\, entdecken Zufallseffekte\, erzeugen Strukturen und Muster und entwickeln eigene Bilder.\r\n\r\n\r\nBitte Kleidung tragen\, die schmutzig werden darf. Farbe lässt sich schwer bis gar nicht von Kleidung entfernen.
URL;VALUE=URI:https://www.unser-ferienprogramm.de/Lahr/veranstaltung.php?id=306146
SUMMARY:Malworkshop für alle\, die Lust haben\, kreativ zu sein
DTSTART;TZID=Europe/Berlin:20260428T170000
END:VEVENT


BEGIN:VEVENT
DTEND;TZID=Europe/Berlin:20260505T180000
UID:69eb99a367d4d3
DTSTAMP:20260424T182611
LOCATION:Dreyspringstr.16 
DESCRIPTION:Wir experimentieren an 6 Dienstagen mit verschiedenen Materialien und Werkzeugen\, schichten und lasieren Farbe\, entdecken Zufallseffekte\, erzeugen Strukturen und Muster und entwickeln eigene Bilder.\r\n\r\n\r\nBitte Kleidung tragen\, die schmutzig werden darf. Farbe lässt sich schwer bis gar nicht von Kleidung entfernen.
URL;VALUE=URI:https://www.unser-ferienprogramm.de/Lahr/veranstaltung.php?id=306146
SUMMARY:Malworkshop für alle\, die Lust haben\, kreativ zu sein
DTSTART;TZID=Europe/Berlin:20260505T170000
END:VEVENT


BEGIN:VEVENT
DTEND;TZID=Europe/Berlin:20260512T180000
UID:69eb99a367d564
DTSTAMP:20260424T182611
LOCATION:Dreyspringstr.16 
DESCRIPTION:Wir experimentieren an 6 Dienstagen mit verschiedenen Materialien und Werkzeugen\, schichten und lasieren Farbe\, entdecken Zufallseffekte\, erzeugen Strukturen und Muster und entwickeln eigene Bilder.\r\n\r\n\r\nBitte Kleidung tragen\, die schmutzig werden darf. Farbe lässt sich schwer bis gar nicht von Kleidung entfernen.
URL;VALUE=URI:https://www.unser-ferienprogramm.de/Lahr/veranstaltung.php?id=306146
SUMMARY:Malworkshop für alle\, die Lust haben\, kreativ zu sein
DTSTART;TZID=Europe/Berlin:20260512T170000
END:VEVENT


BEGIN:VEVENT
DTEND;TZID=Europe/Berlin:20260519T180000
UID:69eb99a367d635
DTSTAMP:20260424T182611
LOCATION:Dreyspringstr.16 
DESCRIPTION:Wir experimentieren an 6 Dienstagen mit verschiedenen Materialien und Werkzeugen\, schichten und lasieren Farbe\, entdecken Zufallseffekte\, erzeugen Strukturen und Muster und entwickeln eigene Bilder.\r\n\r\n\r\nBitte Kleidung tragen\, die schmutzig werden darf. Farbe lässt sich schwer bis gar nicht von Kleidung entfernen.
URL;VALUE=URI:https://www.unser-ferienprogramm.de/Lahr/veranstaltung.php?id=306146
SUMMARY:Malworkshop für alle\, die Lust haben\, kreativ zu sein
DTSTART;TZID=Europe/Berlin:20260519T170000
END:VEVENT

END:VCALENDAR
