BEGIN:VCALENDAR
VERSION:2.0
PRODID:-//hacksw/handcal//NONSGML v1.0//EN
CALSCALE:GREGORIAN
BEGIN:VTIMEZONE
TZID:Europe/Berlin
X-LIC-LOCATION:Europe/Berlin
BEGIN:DAYLIGHT
TZOFFSETFROM:+0100
TZOFFSETTO:+0200
TZNAME:CEST
DTSTART:19700329T020000
RRULE:FREQ=YEARLY;BYDAY=-1SU;BYMONTH=3
END:DAYLIGHT
BEGIN:STANDARD
TZOFFSETFROM:+0200
TZOFFSETTO:+0100
TZNAME:CET
DTSTART:19701025T030000
RRULE:FREQ=YEARLY;BYDAY=-1SU;BYMONTH=10
END:STANDARD
END:VTIMEZONE
BEGIN:VEVENT
DTEND;TZID=Europe/Berlin:20260414T170000
UID:69eb997ce9ddc
DTSTAMP:20260424T182532
LOCATION:Dreyspringstr.16 
DESCRIPTION:Wir experimentieren an 6 Dienstagen mit verschiedenen Materialien und Werkzeugen\, schichten und lasieren Farbe\, entdecken Zufallseffekte\, erzeugen Strukturen und Muster und entwickeln eigene Bilder.\r\n\r\nbitte Kleidung tragen\, die schmutzig werden darf. Farbe lässt sich schwer bis gar nicht von Kleidung entfernen.
URL;VALUE=URI:https://www.unser-ferienprogramm.de/Lahr/veranstaltung.php?id=305017
SUMMARY:Malworkshop für alle\, die Lust haben\, kreativ zu sein
DTSTART;TZID=Europe/Berlin:20260414T160000
END:VEVENT


BEGIN:VEVENT
DTEND;TZID=Europe/Berlin:20260421T170000
UID:69eb997ce9e1c1
DTSTAMP:20260424T182532
LOCATION:Dreyspringstr.16 
DESCRIPTION:Wir experimentieren an 6 Dienstagen mit verschiedenen Materialien und Werkzeugen\, schichten und lasieren Farbe\, entdecken Zufallseffekte\, erzeugen Strukturen und Muster und entwickeln eigene Bilder.\r\n\r\nbitte Kleidung tragen\, die schmutzig werden darf. Farbe lässt sich schwer bis gar nicht von Kleidung entfernen.
URL;VALUE=URI:https://www.unser-ferienprogramm.de/Lahr/veranstaltung.php?id=305017
SUMMARY:Malworkshop für alle\, die Lust haben\, kreativ zu sein
DTSTART;TZID=Europe/Berlin:20260421T160000
END:VEVENT


BEGIN:VEVENT
DTEND;TZID=Europe/Berlin:20260428T170000
UID:69eb997ce9e292
DTSTAMP:20260424T182532
LOCATION:Dreyspringstr.16 
DESCRIPTION:Wir experimentieren an 6 Dienstagen mit verschiedenen Materialien und Werkzeugen\, schichten und lasieren Farbe\, entdecken Zufallseffekte\, erzeugen Strukturen und Muster und entwickeln eigene Bilder.\r\n\r\nbitte Kleidung tragen\, die schmutzig werden darf. Farbe lässt sich schwer bis gar nicht von Kleidung entfernen.
URL;VALUE=URI:https://www.unser-ferienprogramm.de/Lahr/veranstaltung.php?id=305017
SUMMARY:Malworkshop für alle\, die Lust haben\, kreativ zu sein
DTSTART;TZID=Europe/Berlin:20260428T160000
END:VEVENT


BEGIN:VEVENT
DTEND;TZID=Europe/Berlin:20260505T170000
UID:69eb997ce9e333
DTSTAMP:20260424T182532
LOCATION:Dreyspringstr.16 
DESCRIPTION:Wir experimentieren an 6 Dienstagen mit verschiedenen Materialien und Werkzeugen\, schichten und lasieren Farbe\, entdecken Zufallseffekte\, erzeugen Strukturen und Muster und entwickeln eigene Bilder.\r\n\r\nbitte Kleidung tragen\, die schmutzig werden darf. Farbe lässt sich schwer bis gar nicht von Kleidung entfernen.
URL;VALUE=URI:https://www.unser-ferienprogramm.de/Lahr/veranstaltung.php?id=305017
SUMMARY:Malworkshop für alle\, die Lust haben\, kreativ zu sein
DTSTART;TZID=Europe/Berlin:20260505T160000
END:VEVENT


BEGIN:VEVENT
DTEND;TZID=Europe/Berlin:20260512T170000
UID:69eb997ce9e3d4
DTSTAMP:20260424T182532
LOCATION:Dreyspringstr.16 
DESCRIPTION:Wir experimentieren an 6 Dienstagen mit verschiedenen Materialien und Werkzeugen\, schichten und lasieren Farbe\, entdecken Zufallseffekte\, erzeugen Strukturen und Muster und entwickeln eigene Bilder.\r\n\r\nbitte Kleidung tragen\, die schmutzig werden darf. Farbe lässt sich schwer bis gar nicht von Kleidung entfernen.
URL;VALUE=URI:https://www.unser-ferienprogramm.de/Lahr/veranstaltung.php?id=305017
SUMMARY:Malworkshop für alle\, die Lust haben\, kreativ zu sein
DTSTART;TZID=Europe/Berlin:20260512T160000
END:VEVENT


BEGIN:VEVENT
DTEND;TZID=Europe/Berlin:20260519T170000
UID:69eb997ce9e465
DTSTAMP:20260424T182532
LOCATION:Dreyspringstr.16 
DESCRIPTION:Wir experimentieren an 6 Dienstagen mit verschiedenen Materialien und Werkzeugen\, schichten und lasieren Farbe\, entdecken Zufallseffekte\, erzeugen Strukturen und Muster und entwickeln eigene Bilder.\r\n\r\nbitte Kleidung tragen\, die schmutzig werden darf. Farbe lässt sich schwer bis gar nicht von Kleidung entfernen.
URL;VALUE=URI:https://www.unser-ferienprogramm.de/Lahr/veranstaltung.php?id=305017
SUMMARY:Malworkshop für alle\, die Lust haben\, kreativ zu sein
DTSTART;TZID=Europe/Berlin:20260519T160000
END:VEVENT

END:VCALENDAR
