BEGIN:VCALENDAR
VERSION:2.0
PRODID:-//hacksw/handcal//NONSGML v1.0//EN
CALSCALE:GREGORIAN
BEGIN:VTIMEZONE
TZID:Europe/Berlin
X-LIC-LOCATION:Europe/Berlin
BEGIN:DAYLIGHT
TZOFFSETFROM:+0100
TZOFFSETTO:+0200
TZNAME:CEST
DTSTART:19700329T020000
RRULE:FREQ=YEARLY;BYDAY=-1SU;BYMONTH=3
END:DAYLIGHT
BEGIN:STANDARD
TZOFFSETFROM:+0200
TZOFFSETTO:+0100
TZNAME:CET
DTSTART:19701025T030000
RRULE:FREQ=YEARLY;BYDAY=-1SU;BYMONTH=10
END:STANDARD
END:VTIMEZONE
BEGIN:VEVENT
DTEND;TZID=Europe/Berlin:20260219T123000
UID:69ebbe3887fd2
DTSTAMP:20260424T210216
LOCATION:Haus Waldhof Schuttertal
DESCRIPTION:Die Jugendleiterschulung bietet jungen Menschen die Möglichkeit\, wichtige Fähigkeiten in der Betreuung und Begleitung von Gruppen zu erlernen. In praxisnahen Workshops und Schulungseinheiten geht es um Themen wie Teamarbeit\, Kommunikation\, Konfliktlösung und die Gestaltung von Freizeitangeboten. Die Teilnehmenden erhalten außerdem Einblicke in rechtliche Grundlagen und pädagogische Ansätze\, um gut auf die Arbeit als Jugendleiter*in\r\nvorbereitet zu sein.\r\nMit der Jugendleiterschulung erhält man den theoretischen Teil\, der benötigt wird um die Jugendleitercard zu beantragen. \r\n\r\nTeilnehmen kann\, wer bis zum 01.07.2025 mindestens 16 Jahre alt ist.
URL;VALUE=URI:https://www.unser-ferienprogramm.de/Lahr/veranstaltung.php?id=295752
SUMMARY:JuLeiCa-Schulung 2026
DTSTART;TZID=Europe/Berlin:20260216T150000
END:VEVENT

END:VCALENDAR
