BEGIN:VCALENDAR
VERSION:2.0
PRODID:-//hacksw/handcal//NONSGML v1.0//EN
CALSCALE:GREGORIAN
BEGIN:VTIMEZONE
TZID:Europe/Berlin
X-LIC-LOCATION:Europe/Berlin
BEGIN:DAYLIGHT
TZOFFSETFROM:+0100
TZOFFSETTO:+0200
TZNAME:CEST
DTSTART:19700329T020000
RRULE:FREQ=YEARLY;BYDAY=-1SU;BYMONTH=3
END:DAYLIGHT
BEGIN:STANDARD
TZOFFSETFROM:+0200
TZOFFSETTO:+0100
TZNAME:CET
DTSTART:19701025T030000
RRULE:FREQ=YEARLY;BYDAY=-1SU;BYMONTH=10
END:STANDARD
END:VTIMEZONE
BEGIN:VEVENT
DTEND;TZID=Europe/Berlin:20260527T123000
UID:69eb9ae5a9bb9
DTSTAMP:20260424T183133
LOCATION:Werkstatt annettes-shop\, Weidweg 28a\, 77955 Ettenheim
DESCRIPTION:Nähworkshop für Kids ab 7 Jahre mit und ohne Näherfahrung.\r\n\r\nOb als Geschenk oder weil es einfach sooo viel Spaß macht\r\n\r\nViele Kinder wollen selber nähen lernen\, weil sie es schon bei der Oma / Tante / Mutter oder sogar bei Freunden gesehen haben.\r\n\r\nDer Kurs ist für Anfänger oder auch schon erfahrenen Kinder / Jugendliche geeignet. Der jeweilige Kenntnisstand wird in der kleinen Gruppe vom max. 6 Kindern / Jugendlichen individuell beachtet.\r\n\r\nDie vorhandenen Kursmaschinen sind auch für die kleinen Kinder ab 7 Jahren geeignet\, da sich die Nähgeschwindigkeit komplett drosseln lässt. \r\n\r\nDie Kursbuchung erfolgt ausschließlich direkt über mich\, gerne über folgenden Link: \r\n\r\nhttps://www.annettes-shop.com/c/naehkurstermine-naehprojekte/naehkurstermine/fuer-kinder\r\n    \r\nKursort ist meine Werkstatt in Ettenheim\, Weidenweg 28a.\r\n\r\nEine Kurseinheit beträgt 1x 3 Stunden in einer kleinen Gruppe von maximal 6 Kindern.\r\nGenäht werden können verschiedene Projekte\, siehe die Angebote in meinem Shop die bequem zusammen mit dem Kurs gebucht werden können. Die Auswahl kann bei vielen Projekten auch am Kurstag selbst erfolgen.\r\n\r\nBitte beachtet\, dass einige Nähprojekte mehrere Kurseinheiten benötigen\, dies ist abhängig vom gewählten Nähprojekt als auch von Alter\, Erfahrung und Ausdauer.\r\n\r\nSofern das Kind / Teenager eine eigene Nähmaschine hat\, kann diese auch gerne mitgebracht werden. Von Vorteil ist es wenn die Maschine schon sicher bedient werden kann. Ist dies nicht der Fall\, wird für das Nähprojekt eventuell mehr Zeit benötigt als angegeben. Erklärungen zur Bedienung sowie die Ausstattung unterschiedlicher Nähmaschinentypen benötigen öfters deutlich mehr Zeit als die Nutzung der Kursmaschinen.\r\n\r\nDie Kursmaschinen sowie Zubehör stehen zum Workshop unentgeltlich zur Verfügung.\r\n\r\nIhre Fragen zum Kurs können mir gerne per email unter info@annettes-shop.de gesendet werden.
URL;VALUE=URI:https://www.unser-ferienprogramm.de/Lahr/veranstaltung.php?id=294185
SUMMARY:Nähen für Kids ab 7
DTSTART;TZID=Europe/Berlin:20260527T093000
END:VEVENT

END:VCALENDAR
