BEGIN:VCALENDAR
VERSION:2.0
PRODID:-//hacksw/handcal//NONSGML v1.0//EN
CALSCALE:GREGORIAN
BEGIN:VTIMEZONE
TZID:Europe/Berlin
X-LIC-LOCATION:Europe/Berlin
BEGIN:DAYLIGHT
TZOFFSETFROM:+0100
TZOFFSETTO:+0200
TZNAME:CEST
DTSTART:19700329T020000
RRULE:FREQ=YEARLY;BYDAY=-1SU;BYMONTH=3
END:DAYLIGHT
BEGIN:STANDARD
TZOFFSETFROM:+0200
TZOFFSETTO:+0100
TZNAME:CET
DTSTART:19701025T030000
RRULE:FREQ=YEARLY;BYDAY=-1SU;BYMONTH=10
END:STANDARD
END:VTIMEZONE
BEGIN:VEVENT
DTEND;TZID=Europe/Berlin:20260409T190000
UID:69eb6063648df
DTSTAMP:20260424T142155
LOCATION:Bakumer Str.2 49393 Lohne
DESCRIPTION:Hier im Lohner Jugendtreff habt ihr die Möglichkeit als Gruppe zu entscheiden\, was\r\nwir gemeinsam kochen. Seien es TikTok Food Trends\, die deutsche\, türkische oder\r\nalbanische Küche und viele weitere. Zusammen gestalten wir zu den von uns\r\ndurchgeführten Kochangeboten\, ein Kochbuch\, in dem wir unsere Rezepte\r\nsammeln.\r\n\r\nAchtung!!!!!! \r\n\r\nHier die darauf folgenden Termine \r\n\r\n16.04.2026\r\n23.04.2026\r\n07.05.2026\r\n21.05.2026\r\n04.06.2026\r\n11.06.2026\r\n18.06.2026\r\n25.06.2026\r\n\r\nAlle 9 Termine sind durch den Betrag 30\,00€ abgedeckt. 
URL;VALUE=URI:https://www.unser-ferienprogramm.de/LJT/veranstaltung.php?id=312246
SUMMARY:International cooking 3.0 mit Leyla und Klara 
DTSTART;TZID=Europe/Berlin:20260409T160000
END:VEVENT


BEGIN:VEVENT
DTEND;TZID=Europe/Berlin:20260416T190000
UID:69eb6063649131
DTSTAMP:20260424T142155
LOCATION:Bakumer Str.2 49393 Lohne
DESCRIPTION:Hier im Lohner Jugendtreff habt ihr die Möglichkeit als Gruppe zu entscheiden\, was\r\nwir gemeinsam kochen. Seien es TikTok Food Trends\, die deutsche\, türkische oder\r\nalbanische Küche und viele weitere. Zusammen gestalten wir zu den von uns\r\ndurchgeführten Kochangeboten\, ein Kochbuch\, in dem wir unsere Rezepte\r\nsammeln.\r\n\r\nAchtung!!!!!! \r\n\r\nHier die darauf folgenden Termine \r\n\r\n16.04.2026\r\n23.04.2026\r\n07.05.2026\r\n21.05.2026\r\n04.06.2026\r\n11.06.2026\r\n18.06.2026\r\n25.06.2026\r\n\r\nAlle 9 Termine sind durch den Betrag 30\,00€ abgedeckt. 
URL;VALUE=URI:https://www.unser-ferienprogramm.de/LJT/veranstaltung.php?id=312246
SUMMARY:International cooking 3.0 mit Leyla und Klara 
DTSTART;TZID=Europe/Berlin:20260416T160000
END:VEVENT


BEGIN:VEVENT
DTEND;TZID=Europe/Berlin:20260423T190000
UID:69eb6063649232
DTSTAMP:20260424T142155
LOCATION:Bakumer Str.2 49393 Lohne
DESCRIPTION:Hier im Lohner Jugendtreff habt ihr die Möglichkeit als Gruppe zu entscheiden\, was\r\nwir gemeinsam kochen. Seien es TikTok Food Trends\, die deutsche\, türkische oder\r\nalbanische Küche und viele weitere. Zusammen gestalten wir zu den von uns\r\ndurchgeführten Kochangeboten\, ein Kochbuch\, in dem wir unsere Rezepte\r\nsammeln.\r\n\r\nAchtung!!!!!! \r\n\r\nHier die darauf folgenden Termine \r\n\r\n16.04.2026\r\n23.04.2026\r\n07.05.2026\r\n21.05.2026\r\n04.06.2026\r\n11.06.2026\r\n18.06.2026\r\n25.06.2026\r\n\r\nAlle 9 Termine sind durch den Betrag 30\,00€ abgedeckt. 
URL;VALUE=URI:https://www.unser-ferienprogramm.de/LJT/veranstaltung.php?id=312246
SUMMARY:International cooking 3.0 mit Leyla und Klara 
DTSTART;TZID=Europe/Berlin:20260423T160000
END:VEVENT


BEGIN:VEVENT
DTEND;TZID=Europe/Berlin:20260507T190000
UID:69eb60636492e3
DTSTAMP:20260424T142155
LOCATION:Bakumer Str.2 49393 Lohne
DESCRIPTION:Hier im Lohner Jugendtreff habt ihr die Möglichkeit als Gruppe zu entscheiden\, was\r\nwir gemeinsam kochen. Seien es TikTok Food Trends\, die deutsche\, türkische oder\r\nalbanische Küche und viele weitere. Zusammen gestalten wir zu den von uns\r\ndurchgeführten Kochangeboten\, ein Kochbuch\, in dem wir unsere Rezepte\r\nsammeln.\r\n\r\nAchtung!!!!!! \r\n\r\nHier die darauf folgenden Termine \r\n\r\n16.04.2026\r\n23.04.2026\r\n07.05.2026\r\n21.05.2026\r\n04.06.2026\r\n11.06.2026\r\n18.06.2026\r\n25.06.2026\r\n\r\nAlle 9 Termine sind durch den Betrag 30\,00€ abgedeckt. 
URL;VALUE=URI:https://www.unser-ferienprogramm.de/LJT/veranstaltung.php?id=312246
SUMMARY:International cooking 3.0 mit Leyla und Klara 
DTSTART;TZID=Europe/Berlin:20260507T160000
END:VEVENT


BEGIN:VEVENT
DTEND;TZID=Europe/Berlin:20260521T190000
UID:69eb6063649394
DTSTAMP:20260424T142155
LOCATION:Bakumer Str.2 49393 Lohne
DESCRIPTION:Hier im Lohner Jugendtreff habt ihr die Möglichkeit als Gruppe zu entscheiden\, was\r\nwir gemeinsam kochen. Seien es TikTok Food Trends\, die deutsche\, türkische oder\r\nalbanische Küche und viele weitere. Zusammen gestalten wir zu den von uns\r\ndurchgeführten Kochangeboten\, ein Kochbuch\, in dem wir unsere Rezepte\r\nsammeln.\r\n\r\nAchtung!!!!!! \r\n\r\nHier die darauf folgenden Termine \r\n\r\n16.04.2026\r\n23.04.2026\r\n07.05.2026\r\n21.05.2026\r\n04.06.2026\r\n11.06.2026\r\n18.06.2026\r\n25.06.2026\r\n\r\nAlle 9 Termine sind durch den Betrag 30\,00€ abgedeckt. 
URL;VALUE=URI:https://www.unser-ferienprogramm.de/LJT/veranstaltung.php?id=312246
SUMMARY:International cooking 3.0 mit Leyla und Klara 
DTSTART;TZID=Europe/Berlin:20260521T160000
END:VEVENT


BEGIN:VEVENT
DTEND;TZID=Europe/Berlin:20260604T190000
UID:69eb6063649435
DTSTAMP:20260424T142155
LOCATION:Bakumer Str.2 49393 Lohne
DESCRIPTION:Hier im Lohner Jugendtreff habt ihr die Möglichkeit als Gruppe zu entscheiden\, was\r\nwir gemeinsam kochen. Seien es TikTok Food Trends\, die deutsche\, türkische oder\r\nalbanische Küche und viele weitere. Zusammen gestalten wir zu den von uns\r\ndurchgeführten Kochangeboten\, ein Kochbuch\, in dem wir unsere Rezepte\r\nsammeln.\r\n\r\nAchtung!!!!!! \r\n\r\nHier die darauf folgenden Termine \r\n\r\n16.04.2026\r\n23.04.2026\r\n07.05.2026\r\n21.05.2026\r\n04.06.2026\r\n11.06.2026\r\n18.06.2026\r\n25.06.2026\r\n\r\nAlle 9 Termine sind durch den Betrag 30\,00€ abgedeckt. 
URL;VALUE=URI:https://www.unser-ferienprogramm.de/LJT/veranstaltung.php?id=312246
SUMMARY:International cooking 3.0 mit Leyla und Klara 
DTSTART;TZID=Europe/Berlin:20260604T160000
END:VEVENT


BEGIN:VEVENT
DTEND;TZID=Europe/Berlin:20260611T190000
UID:69eb60636494d6
DTSTAMP:20260424T142155
LOCATION:Bakumer Str.2 49393 Lohne
DESCRIPTION:Hier im Lohner Jugendtreff habt ihr die Möglichkeit als Gruppe zu entscheiden\, was\r\nwir gemeinsam kochen. Seien es TikTok Food Trends\, die deutsche\, türkische oder\r\nalbanische Küche und viele weitere. Zusammen gestalten wir zu den von uns\r\ndurchgeführten Kochangeboten\, ein Kochbuch\, in dem wir unsere Rezepte\r\nsammeln.\r\n\r\nAchtung!!!!!! \r\n\r\nHier die darauf folgenden Termine \r\n\r\n16.04.2026\r\n23.04.2026\r\n07.05.2026\r\n21.05.2026\r\n04.06.2026\r\n11.06.2026\r\n18.06.2026\r\n25.06.2026\r\n\r\nAlle 9 Termine sind durch den Betrag 30\,00€ abgedeckt. 
URL;VALUE=URI:https://www.unser-ferienprogramm.de/LJT/veranstaltung.php?id=312246
SUMMARY:International cooking 3.0 mit Leyla und Klara 
DTSTART;TZID=Europe/Berlin:20260611T160000
END:VEVENT


BEGIN:VEVENT
DTEND;TZID=Europe/Berlin:20260618T190000
UID:69eb6063649577
DTSTAMP:20260424T142155
LOCATION:Bakumer Str.2 49393 Lohne
DESCRIPTION:Hier im Lohner Jugendtreff habt ihr die Möglichkeit als Gruppe zu entscheiden\, was\r\nwir gemeinsam kochen. Seien es TikTok Food Trends\, die deutsche\, türkische oder\r\nalbanische Küche und viele weitere. Zusammen gestalten wir zu den von uns\r\ndurchgeführten Kochangeboten\, ein Kochbuch\, in dem wir unsere Rezepte\r\nsammeln.\r\n\r\nAchtung!!!!!! \r\n\r\nHier die darauf folgenden Termine \r\n\r\n16.04.2026\r\n23.04.2026\r\n07.05.2026\r\n21.05.2026\r\n04.06.2026\r\n11.06.2026\r\n18.06.2026\r\n25.06.2026\r\n\r\nAlle 9 Termine sind durch den Betrag 30\,00€ abgedeckt. 
URL;VALUE=URI:https://www.unser-ferienprogramm.de/LJT/veranstaltung.php?id=312246
SUMMARY:International cooking 3.0 mit Leyla und Klara 
DTSTART;TZID=Europe/Berlin:20260618T160000
END:VEVENT


BEGIN:VEVENT
DTEND;TZID=Europe/Berlin:20260625T190000
UID:69eb6063649618
DTSTAMP:20260424T142155
LOCATION:Bakumer Str.2 49393 Lohne
DESCRIPTION:Hier im Lohner Jugendtreff habt ihr die Möglichkeit als Gruppe zu entscheiden\, was\r\nwir gemeinsam kochen. Seien es TikTok Food Trends\, die deutsche\, türkische oder\r\nalbanische Küche und viele weitere. Zusammen gestalten wir zu den von uns\r\ndurchgeführten Kochangeboten\, ein Kochbuch\, in dem wir unsere Rezepte\r\nsammeln.\r\n\r\nAchtung!!!!!! \r\n\r\nHier die darauf folgenden Termine \r\n\r\n16.04.2026\r\n23.04.2026\r\n07.05.2026\r\n21.05.2026\r\n04.06.2026\r\n11.06.2026\r\n18.06.2026\r\n25.06.2026\r\n\r\nAlle 9 Termine sind durch den Betrag 30\,00€ abgedeckt. 
URL;VALUE=URI:https://www.unser-ferienprogramm.de/LJT/veranstaltung.php?id=312246
SUMMARY:International cooking 3.0 mit Leyla und Klara 
DTSTART;TZID=Europe/Berlin:20260625T160000
END:VEVENT

END:VCALENDAR
