BEGIN:VCALENDAR
VERSION:2.0
PRODID:-//hacksw/handcal//NONSGML v1.0//EN
CALSCALE:GREGORIAN
BEGIN:VTIMEZONE
TZID:Europe/Berlin
X-LIC-LOCATION:Europe/Berlin
BEGIN:DAYLIGHT
TZOFFSETFROM:+0100
TZOFFSETTO:+0200
TZNAME:CEST
DTSTART:19700329T020000
RRULE:FREQ=YEARLY;BYDAY=-1SU;BYMONTH=3
END:DAYLIGHT
BEGIN:STANDARD
TZOFFSETFROM:+0200
TZOFFSETTO:+0100
TZNAME:CET
DTSTART:19701025T030000
RRULE:FREQ=YEARLY;BYDAY=-1SU;BYMONTH=10
END:STANDARD
END:VTIMEZONE
BEGIN:VEVENT
DTEND;TZID=Europe/Berlin:20260517T131500
UID:69eb6102974a9
DTSTAMP:20260424T142434
LOCATION:Jugend- und Freizeitzentrum am Dümmer\, Dümmerstraße 42\, 49401 Damme - Dümmerlohausen
DESCRIPTION:Dieses Wochenende wird alles andere als langweilig! Dich erwartet jede Menge Bewegung\, coole Challenges und Aktionen\, bei denen du dich auspowern und mit anderen zusammen Spaß haben kannst . Egal ob drinnen oder draußen – hier ist Action angesagt und Teamspirit garantiert.\r\n\r\nDas solltest du mitbringen:\r\n- Schlafsachen \r\n- eigene Bettwäsche bei Bedarf\r\n- Waschzeug \r\n- Duschzeug \r\n- Festes Schuhwerk ( für drinnen und draußen)\r\n- Hausschuhe\r\n- Wetterfeste Kleidung \r\n- genügend Wechselklamotten\r\n- Klamotten die dreckig werden dürfen!\r\n- Badesachen \r\n- Handtücher fürs Kanu fahren\r\n- Trinkflasche \r\n- Snacks\r\n- etwas Taschengeld\r\n- Eine Versicherungskarte \r\n- Medikamente falls benötigt werden\r\n \r\nDas muss Zuhause bleiben:\r\n- Alkohol \r\n- Drogen\r\n- Vapes oder Zigaretten\r\n- Taschenmesser \r\n- Feuerwerkskörper\r\n- Feuerzeug\r\n
URL;VALUE=URI:https://www.unser-ferienprogramm.de/LJT/veranstaltung.php?id=303134
SUMMARY:Freizeitfahrt- Action Wochenende 
DTSTART;TZID=Europe/Berlin:20260515T103000
END:VEVENT

END:VCALENDAR
