BEGIN:VCALENDAR
VERSION:2.0
PRODID:-//hacksw/handcal//NONSGML v1.0//EN
CALSCALE:GREGORIAN
BEGIN:VTIMEZONE
TZID:Europe/Berlin
X-LIC-LOCATION:Europe/Berlin
BEGIN:DAYLIGHT
TZOFFSETFROM:+0100
TZOFFSETTO:+0200
TZNAME:CEST
DTSTART:19700329T020000
RRULE:FREQ=YEARLY;BYDAY=-1SU;BYMONTH=3
END:DAYLIGHT
BEGIN:STANDARD
TZOFFSETFROM:+0200
TZOFFSETTO:+0100
TZNAME:CET
DTSTART:19701025T030000
RRULE:FREQ=YEARLY;BYDAY=-1SU;BYMONTH=10
END:STANDARD
END:VTIMEZONE
BEGIN:VEVENT
DTEND;TZID=Europe/Berlin:20260502T190000
UID:69eb6117d9d74
DTSTAMP:20260424T142455
LOCATION:Bakumer Str.2 49393 Lohne
DESCRIPTION:Streetfood im Jugendtreff\r\nWerde mit uns zusammen zum Streetfoodexperten \, mixe World-Flavors\, designe deine eigenen Street-Food-Creationen und serviere Spaß mit Stil. Einfach\, lecker.\r\n\r\n
URL;VALUE=URI:https://www.unser-ferienprogramm.de/LJT/veranstaltung.php?id=298116
SUMMARY:Streetfood-Factory mit Ara und Klara 
DTSTART;TZID=Europe/Berlin:20260502T140000
END:VEVENT

END:VCALENDAR
