BEGIN:VCALENDAR
VERSION:2.0
PRODID:-//hacksw/handcal//NONSGML v1.0//EN
CALSCALE:GREGORIAN
BEGIN:VTIMEZONE
TZID:Europe/Berlin
X-LIC-LOCATION:Europe/Berlin
BEGIN:DAYLIGHT
TZOFFSETFROM:+0100
TZOFFSETTO:+0200
TZNAME:CEST
DTSTART:19700329T020000
RRULE:FREQ=YEARLY;BYDAY=-1SU;BYMONTH=3
END:DAYLIGHT
BEGIN:STANDARD
TZOFFSETFROM:+0200
TZOFFSETTO:+0100
TZNAME:CET
DTSTART:19701025T030000
RRULE:FREQ=YEARLY;BYDAY=-1SU;BYMONTH=10
END:STANDARD
END:VTIMEZONE
BEGIN:VEVENT
DTEND;TZID=Europe/Berlin:20260724T110000
UID:69eb762c4e75b
DTSTAMP:20260424T155452
LOCATION:Jugend- und Freizeitzentrum am Dümmersee (Dümmerheim)
DESCRIPTION:Abenteuer im Hobbitdorf – Eine unvergessliche Freizeitfahrt!\r\n\r\nHey du! Bist du bereit für ein echtes Abenteuer? Dann komm mit uns auf eine spannende Reise ins Hobbitdorf! Am Jugend- und Freizeitzentrum am Dümmerheim starten wir unsere große Fahrt in eine Welt voller Magie\, Spaß und Überraschungen.\r\n\r\nEs war einmal im Hobbitdorf\, weit hinter sanften Hügeln und zwischen rauschenden Bäumen\, als die Sterne besonders hell funkelten. Die Kinder des Lagers hatten heute eine besondere Aufgabe: Sie sollten die Götter des alten Olympus besuchen\, doch der Weg dorthin war voller Rätsel\, Prüfungen und freundlicher Monster.\r\n\r\nAm Ende deiner Reise  wirst du mit tollen Erinnerungen nach Hause gehen\, voller Geschichten\, die du noch lange erzählen wirst. Also pack deine Abenteuerlust ein und sei dabei – das Hobbitdorf wartet auf dich!
URL;VALUE=URI:https://www.unser-ferienprogramm.de/LJT/veranstaltung.php?id=298101
SUMMARY:SOMMERFERIEN! Fahrt zum  Hobbitdorf mit Ara 
DTSTART;TZID=Europe/Berlin:20260717T110000
END:VEVENT

END:VCALENDAR
