BEGIN:VCALENDAR
VERSION:2.0
PRODID:-//hacksw/handcal//NONSGML v1.0//EN
CALSCALE:GREGORIAN
BEGIN:VTIMEZONE
TZID:Europe/Berlin
X-LIC-LOCATION:Europe/Berlin
BEGIN:DAYLIGHT
TZOFFSETFROM:+0100
TZOFFSETTO:+0200
TZNAME:CEST
DTSTART:19700329T020000
RRULE:FREQ=YEARLY;BYDAY=-1SU;BYMONTH=3
END:DAYLIGHT
BEGIN:STANDARD
TZOFFSETFROM:+0200
TZOFFSETTO:+0100
TZNAME:CET
DTSTART:19701025T030000
RRULE:FREQ=YEARLY;BYDAY=-1SU;BYMONTH=10
END:STANDARD
END:VTIMEZONE
BEGIN:VEVENT
DTEND;TZID=Europe/Berlin:20260605T200000
UID:69eb60c5589bc
DTSTAMP:20260424T142333
LOCATION:Bakumer Str.2 49393 Lohne
DESCRIPTION:Kosmetik selbst herstellen im Lohner Jugendtreff  für 13–16-Jährige\r\n\r\nHast du Lust zu wissen\, was wirklich in Kosmetik steckt und deine eigenen Produkte herzustellen? In unserem Kurs „Kosmetik selbst herstellen“ wirst du kreativ\, lernst natürliche Zutaten kennen und mixt deine ganz persönliche Pflege.\r\n\r\nWas dich hier im Kurs erwartet:\r\nEigene Kosmetikprodukte selbst herstellen und natürliche Inhaltsstoffe kennenlernen\, sowie kreatives Ausprobieren & Gestalten.\r\n\r\n Wo? Lohner Jugendtreff\r\nFür wen? Jugendliche von 13–16 Jahren\r\nVorkenntnisse? Nicht nötig – Neugier reicht!\r\n\r\nOb Lippenpflege\, Creme oder kleine Beauty-Extras – hier zählt deine Kreativität.\r\nMach mit und kreiere deine eigene Kosmetik! 
URL;VALUE=URI:https://www.unser-ferienprogramm.de/LJT/veranstaltung.php?id=297945
SUMMARY:Kosmetik selber herstellen mit Lara und Talja 
DTSTART;TZID=Europe/Berlin:20260605T160000
END:VEVENT

END:VCALENDAR
