BEGIN:VCALENDAR
VERSION:2.0
PRODID:-//hacksw/handcal//NONSGML v1.0//EN
CALSCALE:GREGORIAN
BEGIN:VTIMEZONE
TZID:Europe/Berlin
X-LIC-LOCATION:Europe/Berlin
BEGIN:DAYLIGHT
TZOFFSETFROM:+0100
TZOFFSETTO:+0200
TZNAME:CEST
DTSTART:19700329T020000
RRULE:FREQ=YEARLY;BYDAY=-1SU;BYMONTH=3
END:DAYLIGHT
BEGIN:STANDARD
TZOFFSETFROM:+0200
TZOFFSETTO:+0100
TZNAME:CET
DTSTART:19701025T030000
RRULE:FREQ=YEARLY;BYDAY=-1SU;BYMONTH=10
END:STANDARD
END:VTIMEZONE
BEGIN:VEVENT
DTEND;TZID=Europe/Berlin:20260616T180000
UID:69eb6062de33c
DTSTAMP:20260424T142154
LOCATION:Bakumer Str. 2
DESCRIPTION:Diese schönen Motive werden mit Transferfolie auf die Kissen gebracht. Ich habe viele Vorlagen von Feen\, Supermario etc.. Du kannst aber gerne Fotos von Zuhause mitbringen. Z.B. von deinem Haustier oder dem letzten Urlaub. Verschönert wird das ganze durch Perlen\, Knöpfe\, Bänder und vieles mehr. \r\n\r\nKommt gerne mit Mama oder Papa zusammen. Natürlich darfst du auch Großeltern oder ältere Geschwister mitbringen.\r\n\r\n\r\nEin Erwachsener darf mit basteln! Aber Er/Sie muss als "Kind" angelegt und angemeldet werden!\r\n
URL;VALUE=URI:https://www.unser-ferienprogramm.de/LJT/veranstaltung.php?id=297890
SUMMARY:Kissen mit Geschichte mit Mama oder Papa und Sabine
DTSTART;TZID=Europe/Berlin:20260616T160000
END:VEVENT

END:VCALENDAR
